BEGIN:VCALENDAR
VERSION:2.0
METHOD:PUBLISH
PRODID:-//Missouri State University/Calendar of Events//EN
CALSCALE:GREGORIAN
X-WR-TIMEZONE:America/Chicago
BEGIN:VTIMEZONE
TZID:America/Chicago
BEGIN:DAYLIGHT
TZOFFSETFROM:-0600
TZOFFSETTO:-0500
DTSTART:20070311T020000
RRULE:FREQ=YEARLY;BYMONTH=3;BYDAY=2SU
TZNAME:CDT
END:DAYLIGHT
BEGIN:STANDARD
TZOFFSETFROM:-0500
TZOFFSETTO:-0600
DTSTART:20071104T020000
RRULE:FREQ=YEARLY;BYMONTH=11;BYDAY=1SU
TZNAME:CST
END:STANDARD
END:VTIMEZONE
BEGIN:VEVENT
UID:46f151ba-8342-47e7-85c7-a2809d1036a1.220336@calendar.missouristate.edu
CREATED:20220411T190308Z
LAST-MODIFIED:20220411T190308Z
LOCATION:
SUMMARY:Conversations with the Darr College of Agriculture
DESCRIPTION:Join host\, Greg Fansler as he speaks with Dr. Mike Burton\, a
  faculty member in the Darr College of Agriculture.\n\n\nConversations wi
 th the College is a webinar series created for alumni and friends to hear
  directly from the department or college about current goals\, unique cha
 llenges and opportunities.
X-ALT-DESC;FMTTYPE=text/html:&lt;html&gt;&lt;head&gt;&lt;title&gt;&lt;/title&gt;&lt;/head&gt;&lt;body&gt;&lt;p ti
 tle=""&gt;Join host\, Greg Fansler as he speaks with Dr. Mike Burton\,&amp;nbsp\
 ;a faculty member in the Darr College of Agriculture.&lt;/p&gt;\n&lt;p title=""&gt;Co
 nversations with the College is a webinar series created for alumni and f
 riends to hear directly from the department or college about current goal
 s\, unique challenges and opportunities.&lt;/p&gt;\n&lt;p&gt;&lt;/p&gt;&lt;/body&gt;&lt;/html&gt;
DTSTART;TZID=America/Chicago:20220419T120000
DTEND;TZID=America/Chicago:20220419T130000
SEQUENCE:0
URL:https://maroonation.missouristate.edu/s/1691/start.aspx?sid=1691&amp;gid=2
 &amp;pgid=2738&amp;content_id=2454
CATEGORIES:Public,Alumni,Current Students,Faculty,Future Students,Staff
END:VEVENT
END:VCALENDAR