BEGIN:VCALENDAR
VERSION:2.0
METHOD:PUBLISH
PRODID:-//Missouri State University/Calendar of Events//EN
CALSCALE:GREGORIAN
X-WR-TIMEZONE:America/Chicago
BEGIN:VTIMEZONE
TZID:America/Chicago
BEGIN:DAYLIGHT
TZOFFSETFROM:-0600
TZOFFSETTO:-0500
DTSTART:20070311T020000
RRULE:FREQ=YEARLY;BYMONTH=3;BYDAY=2SU
TZNAME:CDT
END:DAYLIGHT
BEGIN:STANDARD
TZOFFSETFROM:-0500
TZOFFSETTO:-0600
DTSTART:20071104T020000
RRULE:FREQ=YEARLY;BYMONTH=11;BYDAY=1SU
TZNAME:CST
END:STANDARD
END:VTIMEZONE
BEGIN:VEVENT
UID:4fd15739-b5a2-4a65-b26a-5da58515d970.220340@calendar.missouristate.edu
CREATED:20220307T154534Z
LAST-MODIFIED:20220307T154534Z
LOCATION:
SUMMARY:Technology in Advising II: Updates
DESCRIPTION:Facilitator: Brian Edmond\, coordinator of Management Info Sys
 tems (MIS)\n\n\nPresented by Computer Services staff\n\n\nCome learn from
  the Computer Services staff about changes in technology and Banner upgra
 des. This forum is important to understand upgrades that will affect how 
 we advise students. Topics include EASI (Title III Coaching Web Applicati
 on) and the new Banner Self-Service Registration System. \n\n\nRegistrati
 on is encouraged.\n\n\nJoin via Zoom.
X-ALT-DESC;FMTTYPE=text/html:&lt;html&gt;&lt;head&gt;&lt;title&gt;&lt;/title&gt;&lt;/head&gt;&lt;body&gt;&lt;p&gt;Fa
 cilitator: Brian Edmond\, coordinator of Management Info Systems (MIS)&lt;/p
 &gt;\n&lt;p&gt;Presented by Computer Services staff&lt;/p&gt;\n&lt;p&gt;Come learn from the Co
 mputer Services staff about changes in technology and Banner upgrades. Th
 is forum is important to understand upgrades that will affect how we advi
 se students. Topics include EASI (Title III Coaching Web Application) and
  the new Banner Self-Service Registration System.&amp;nbsp\;&lt;/p&gt;\n&lt;p&gt;Registra
 tion is encouraged.&lt;/p&gt;\n&lt;p&gt;Join via &lt;a href="https://missouristate.zoom.
 us/j/99974696784"&gt;Zoom&lt;/a&gt;.&lt;/p&gt;&lt;/body&gt;&lt;/html&gt;
DTSTART;TZID=America/Chicago:20220504T120000
DTEND;TZID=America/Chicago:20220504T130000
SEQUENCE:1
URL:https://www.missouristate.edu/Advising/forum-schedule.htm
CATEGORIES:Public,Alumni,Current Students,Faculty,Staff
END:VEVENT
END:VCALENDAR