BEGIN:VCALENDAR
VERSION:2.0
METHOD:PUBLISH
PRODID:-//Missouri State University/Calendar of Events//EN
CALSCALE:GREGORIAN
X-WR-TIMEZONE:America/Chicago
BEGIN:VTIMEZONE
TZID:America/Chicago
BEGIN:DAYLIGHT
TZOFFSETFROM:-0600
TZOFFSETTO:-0500
DTSTART:20070311T020000
RRULE:FREQ=YEARLY;BYMONTH=3;BYDAY=2SU
TZNAME:CDT
END:DAYLIGHT
BEGIN:STANDARD
TZOFFSETFROM:-0500
TZOFFSETTO:-0600
DTSTART:20071104T020000
RRULE:FREQ=YEARLY;BYMONTH=11;BYDAY=1SU
TZNAME:CST
END:STANDARD
END:VTIMEZONE
BEGIN:VEVENT
UID:ca345a78-4db1-4b5c-a721-4ab92ac5aecc.220344@calendar.missouristate.edu
CREATED:20220429T181824Z
LAST-MODIFIED:20220429T181824Z
LOCATION:Meyer Alumni Center\, Kenneth E. Turner Family Hospitality Room
SUMMARY:Lunch with an MSU Genius - University Safety in a Changing World
DESCRIPTION:Join us for "University Safety in a Changing World\," presente
 d by David Hall\, director of safety at Missouri State University. Hall w
 as the former City of Springfield Fire Chief and recipient of the Chief F
 ire Officer Designation\, Center for Public Safety Excellence in 2012\, t
 he Fire Officer of the Year\, Springfield Fire Department in 2004 and the
  Missouri Instructor of the Year\, University of Missouri Fire and Rescue
  Training Institute in 2003.\n\n\nThe Missouri State University Foundatio
 n is excited to host this new series of luncheons designed to showcase th
 e many types of genius at Missouri State University: from faculty researc
 h and initiatives to award-winning programs developed by staff to student
 s winning national awards. Attendees will have an opportunity to have per
 sonal conversations with these geniuses and see first-hand the amazing wo
 rk and incredible impact they have.\n\n\nLuncheons will be held in the Tu
 rner Family Hospitality Room on the first floor of the Kenneth E. Meyer A
 lumni Center. Complimentary parking is available in the attached garage o
 ff of McDaniel Street. Feel free to arrive any time after 11:30 a.m. Lunc
 h will be served at approximately 11:30 a.m.\, followed by the program at
  noon. All sessions will be offered live via Zoom. Registration is requir
 ed for either in-person and Zoom attendance.
X-ALT-DESC;FMTTYPE=text/html:&lt;html&gt;&lt;head&gt;&lt;title&gt;&lt;/title&gt;&lt;/head&gt;&lt;body&gt;&lt;p&gt;Jo
 in us for "University Safety in a Changing World\," presented by David Ha
 ll\, director of safety at Missouri State University. Hall was the former
  City of Springfield Fire Chief and recipient of the Chief Fire Officer D
 esignation\, Center for Public Safety Excellence in 2012\, the Fire Offic
 er of the Year\, Springfield Fire Department in 2004 and the Missouri Ins
 tructor of the Year\, University of Missouri Fire and Rescue Training Ins
 titute in 2003.&lt;/p&gt;\n&lt;p&gt;The Missouri State University Foundation is excit
 ed to host this new series of luncheons designed to showcase the many typ
 es of genius at Missouri State University: from faculty research and init
 iatives to award-winning programs developed by staff to students winning 
 national awards. Attendees will have an opportunity to have personal conv
 ersations with these geniuses and see first-hand the amazing work and inc
 redible impact they have.&lt;/p&gt;\n&lt;p&gt;Luncheons will be held in the Turner Fa
 mily Hospitality Room on the first floor of the Kenneth E. Meyer Alumni C
 enter. Complimentary parking is available in the attached garage off of M
 cDaniel Street. Feel free to arrive any time after 11:30 a.m. Lunch will 
 be served at approximately 11:30 a.m.\, followed by the program at noon. 
 All sessions will be offered live via Zoom. Registration is required for 
 either in-person and Zoom attendance.&lt;/p&gt;&lt;/body&gt;&lt;/html&gt;
DTSTART;TZID=America/Chicago:20220706T113000
DTEND;TZID=America/Chicago:20220706T130000
SEQUENCE:0
URL:https://maroonation.missouristate.edu/s/1691/foundation/interior.aspx?
 sid=1691&amp;gid=2&amp;pgid=2632&amp;cid=4704&amp;ecid=4704&amp;crid=0&amp;calpgid=61&amp;calcid=667
CATEGORIES:Public,Alumni,Faculty,Staff
END:VEVENT
END:VCALENDAR