BEGIN:VCALENDAR
VERSION:2.0
METHOD:PUBLISH
PRODID:-//Missouri State University/Calendar of Events//EN
CALSCALE:GREGORIAN
X-WR-TIMEZONE:America/Chicago
BEGIN:VTIMEZONE
TZID:America/Chicago
BEGIN:DAYLIGHT
TZOFFSETFROM:-0600
TZOFFSETTO:-0500
DTSTART:20070311T020000
RRULE:FREQ=YEARLY;BYMONTH=3;BYDAY=2SU
TZNAME:CDT
END:DAYLIGHT
BEGIN:STANDARD
TZOFFSETFROM:-0500
TZOFFSETTO:-0600
DTSTART:20071104T020000
RRULE:FREQ=YEARLY;BYMONTH=11;BYDAY=1SU
TZNAME:CST
END:STANDARD
END:VTIMEZONE
BEGIN:VEVENT
UID:76503f94-fcb0-43f8-961e-5afc9ee8bb75.220347@calendar.missouristate.edu
CREATED:20220307T192434Z
LAST-MODIFIED:20220307T192434Z
LOCATION:Plaster Student Union\, Robert W. North Mall
SUMMARY:SAC Presents: Farmer's Market
DESCRIPTION:Join SAC &amp; SGA for our 2nd Annual Farmer's Market! Students wi
 ll get a $10 voucher at our vendor stands.
X-ALT-DESC;FMTTYPE=text/html:&lt;html&gt;&lt;head&gt;&lt;title&gt;&lt;/title&gt;&lt;/head&gt;&lt;body&gt;&lt;p&gt;Jo
 in SAC &amp;amp\; SGA for our 2nd Annual Farmer's Market! Students will get a
  $10 voucher at our vendor stands.&lt;/p&gt;&lt;/body&gt;&lt;/html&gt;
DTSTART;TZID=America/Chicago:20220421T190000
DTEND;TZID=America/Chicago:20220421T220000
SEQUENCE:1
URL:115696.jpg
CATEGORIES:Current Students,Faculty,Staff
END:VEVENT
END:VCALENDAR