BEGIN:VCALENDAR
VERSION:2.0
METHOD:PUBLISH
PRODID:-//Missouri State University/Calendar of Events//EN
CALSCALE:GREGORIAN
X-WR-TIMEZONE:America/Chicago
BEGIN:VTIMEZONE
TZID:America/Chicago
BEGIN:DAYLIGHT
TZOFFSETFROM:-0600
TZOFFSETTO:-0500
DTSTART:20070311T020000
RRULE:FREQ=YEARLY;BYMONTH=3;BYDAY=2SU
TZNAME:CDT
END:DAYLIGHT
BEGIN:STANDARD
TZOFFSETFROM:-0500
TZOFFSETTO:-0600
DTSTART:20071104T020000
RRULE:FREQ=YEARLY;BYMONTH=11;BYDAY=1SU
TZNAME:CST
END:STANDARD
END:VTIMEZONE
BEGIN:VEVENT
UID:9c625b8c-1dc2-4e87-80d7-30ffdeeb06cd.220354@calendar.missouristate.edu
CREATED:20220308T190112Z
LAST-MODIFIED:20220308T190112Z
LOCATION:Hammons Hall for the Performing Arts\, Juanita K.
SUMMARY:Fiddler on the Roof
DESCRIPTION:Friday\, March 25\, 2022 - 7:30 p.m.\nSaturday\, March 26\, 20
 22 - 2 p.m.\nSaturday\, March 26\, 2022 - 7:30 p.m.\n\nRich with musical 
 hits you know and love\, including "Tradition\," "Sunrise\, Sunset\, " "I
 f I Were A Rich Man\,” "Matchmaker\, Matchmaker" and "To Life (L'Chaim!)\
 ," Fiddler on the Roof is the heartwarming story of fathers and daughters
 \, husbands and wives\, and life\, love and laughter.\n\n\nTony Award®-wi
 nning director Bartlett Sher and the team behind South Pacific\, The King
  and I\, and 2017 Tony Award®-winning Best Play Oslo\, bring a fresh and 
 authentic vision to this beloved theatrical masterpiece from Tony® winner
  Joseph Stein and Pulitzer Prize winners Jerry Bock and Sheldon Harnick. 
 Featuring a talented cast\, lavish orchestra\, and stunning movement and 
 dance from Israeli choreographer Hofesh Shechter\, based on the original 
 staging by Jerome Robbins\, Fiddler on the Roof will introduce a new gene
 ration to the uplifting celebration that raises its cup to joy! To love! 
 To life!
X-ALT-DESC;FMTTYPE=text/html:&lt;html&gt;&lt;head&gt;&lt;title&gt;&lt;/title&gt;&lt;/head&gt;&lt;body&gt;&lt;ul&gt;\
 n&lt;li&gt;Friday\, March 25\, 2022 - 7:30 p.m.&lt;/li&gt;\n&lt;li&gt;Saturday\, March 26\,
  2022 -&amp;nbsp\;2&amp;nbsp\;p.m.&lt;/li&gt;\n&lt;li&gt;Saturday\, March 26\, 2022 - 7:30&amp;nb
 sp\;p.m.&lt;/li&gt;\n&lt;/ul&gt;\n&lt;p&gt;Rich with musical hits you know and love\, inclu
 ding "Tradition\," "Sunrise\, Sunset\, " "If I Were A Rich Man\,” "Matchm
 aker\, Matchmaker" and "To Life (L'Chaim!)\,"&amp;nbsp\;&lt;strong&gt;Fiddler on th
 e Roof&amp;nbsp\;&lt;/strong&gt;is the heartwarming&amp;nbsp\;story of fathers and daug
 hters\, husbands and&amp;nbsp\;wives\, and life\, love and laughter.&lt;/p&gt;\n&lt;p&gt;
 Tony Award®-winning director Bartlett Sher and the team behind South Paci
 fic\, The King and I\, and 2017 Tony Award®-winning Best Play Oslo\, brin
 g a fresh and authentic vision to this beloved theatrical masterpiece fro
 m Tony® winner Joseph Stein and Pulitzer Prize winners Jerry Bock and She
 ldon Harnick. Featuring a talented cast\, lavish orchestra\, and stunning
  movement and dance from Israeli choreographer Hofesh Shechter\, based on
  the original staging by Jerome Robbins\,&amp;nbsp\;&lt;strong&gt;Fiddler on the Ro
 of&amp;nbsp\;&lt;/strong&gt;will introduce a new generation to the uplifting celebr
 ation that raises its cup to joy! To love! To life!&lt;/p&gt;\n&lt;p&gt;&lt;/p&gt;\n&lt;p&gt;&lt;/p&gt;
 &lt;/body&gt;&lt;/html&gt;
DTSTART;TZID=America/Chicago:20220325T000000
DTEND;TZID=America/Chicago:20220325T000000
SEQUENCE:1
URL:115698.jpg
CATEGORIES:Public,Alumni,Current Students,Faculty,Future Students,Staff
END:VEVENT
END:VCALENDAR