BEGIN:VCALENDAR
VERSION:2.0
METHOD:PUBLISH
PRODID:-//Missouri State University/Calendar of Events//EN
CALSCALE:GREGORIAN
X-WR-TIMEZONE:America/Chicago
BEGIN:VTIMEZONE
TZID:America/Chicago
BEGIN:DAYLIGHT
TZOFFSETFROM:-0600
TZOFFSETTO:-0500
DTSTART:20070311T020000
RRULE:FREQ=YEARLY;BYMONTH=3;BYDAY=2SU
TZNAME:CDT
END:DAYLIGHT
BEGIN:STANDARD
TZOFFSETFROM:-0500
TZOFFSETTO:-0600
DTSTART:20071104T020000
RRULE:FREQ=YEARLY;BYMONTH=11;BYDAY=1SU
TZNAME:CST
END:STANDARD
END:VTIMEZONE
BEGIN:VEVENT
UID:52563c48-7538-453d-9f09-fda4f36b38e5.220360@calendar.missouristate.edu
CREATED:20220308T195733Z
LAST-MODIFIED:20220308T195733Z
LOCATION:To Be Determined
SUMMARY:Mercy Mammogram Bus on Campus
DESCRIPTION:Schedule your appointment now- 417-820-2790\nAppointments are 
 now available to schedule your mammogram with The Mercy Wellness on Tour\
 , Mammogram bus. The Mobile 3D Mammography Bus will be on campus May 4\, 
 2022. The mammogram bus appointments were filled when it visited campus i
 n January and March\, don’t wait to make your appointment!  For more info
 rmation\, including patient criteria\, visit the Magers Health &amp; wellness
  center/ Mammogram bus site or contact Jerilyn Reed at 417-836-4045\n\n\n
 Screening is available at no cost to you\; preventative mammography scree
 ning with an in-network provider is covered at 100% under both the base a
 nd buy-up health plans.\n\n\n\n\n\nGet paid to take care of your health? 
 Employees and covered dependents\, enrolled in the critical illness insur
 ance coverage are eligible to receive a $100 wellness reimbursement for c
 overed wellness/preventative care related activities\, including mammogra
 phy. The critical illness policy may only be enrolled annually during ope
 n enrollment (November 1- December 1).
X-ALT-DESC;FMTTYPE=text/html:&lt;html&gt;&lt;head&gt;&lt;title&gt;&lt;/title&gt;&lt;/head&gt;&lt;body&gt;&lt;h3&gt;&lt;
 strong&gt;Schedule your appointment now- 417-820-2790&lt;/strong&gt;&lt;/h3&gt;\n&lt;p&gt;Appo
 intments are now available to schedule your mammogram with The Mercy Well
 ness on Tour\, Mammogram bus. The Mobile 3D Mammography Bus will be on ca
 mpus May 4\, 2022. The mammogram bus appointments were filled when it vis
 ited campus in January and March\, don’t wait to make your appointment!&amp;n
 bsp\; For more information\, including patient criteria\, visit the &lt;a hr
 ef="https://health.missouristate.edu/services/mammogram.htm"&gt;Magers Healt
 h &amp;amp\; wellness center/ Mammogram bus&lt;/a&gt; site or contact Jerilyn Reed 
 at 417-836-4045&lt;/p&gt;\n&lt;p&gt;Screening is available at no cost to you\; &lt;em&gt;pr
 eventative&lt;/em&gt; mammography screening with an in-network provider is cove
 red at 100% under both the &lt;a href="https://www.missouristate.edu/Assets/
 human/BasePlan2022.pdf"&gt;base&lt;/a&gt; and &lt;a href="https://www.missouristate.e
 du/Assets/human/BuyUp2022.pdf"&gt;buy-up &lt;/a&gt;health plans.&lt;/p&gt;\n&lt;p&gt;&lt;/p&gt;\n&lt;p&gt;
 Get paid to take care of your health? Employees and covered dependents\, 
 enrolled in the &lt;a href="https://www.missouristate.edu/Human/critical-ill
 ness.aspx"&gt;critical illness insurance coverage&lt;/a&gt; are eligible to receiv
 e a &lt;a href="https://seemybenefitsonline.com/client_sites/form_folder/all
 state/claim_forms/SMBO-WellnessClaimForm.pdf"&gt;$100 wellness reimbursement
 &lt;/a&gt; for covered wellness/preventative care related activities\, includin
 g mammography. The critical illness policy may only be enrolled annually 
 during open enrollment (November 1- December 1).&lt;/p&gt;&lt;/body&gt;&lt;/html&gt;
DTSTART;VALUE=DATE:20220504
DTEND;VALUE=DATE:20220505
SEQUENCE:0
URL:https://calendar.missouristate.edu/viewevent.aspx?eventid=115703&amp;occur
 renceid=220360
CATEGORIES:Faculty,Staff
END:VEVENT
END:VCALENDAR