BEGIN:VCALENDAR
VERSION:2.0
METHOD:PUBLISH
PRODID:-//Missouri State University/Calendar of Events//EN
CALSCALE:GREGORIAN
X-WR-TIMEZONE:America/Chicago
BEGIN:VTIMEZONE
TZID:America/Chicago
BEGIN:DAYLIGHT
TZOFFSETFROM:-0600
TZOFFSETTO:-0500
DTSTART:20070311T020000
RRULE:FREQ=YEARLY;BYMONTH=3;BYDAY=2SU
TZNAME:CDT
END:DAYLIGHT
BEGIN:STANDARD
TZOFFSETFROM:-0500
TZOFFSETTO:-0600
DTSTART:20071104T020000
RRULE:FREQ=YEARLY;BYMONTH=11;BYDAY=1SU
TZNAME:CST
END:STANDARD
END:VTIMEZONE
BEGIN:VEVENT
UID:ef1b044f-e615-4c7f-9e00-9658913bd0bd.220368@calendar.missouristate.edu
CREATED:20220310T194338Z
LAST-MODIFIED:20220310T194338Z
LOCATION:Hammons Hall for the Performing Arts\, Juanita K.
SUMMARY:SPRINGFIELD SYMPHONY – Dance Around\, Around
DESCRIPTION:At our final Classical masterworks concert of the year\, we br
 ing Europe’s many dance traditions together. You will hear a traditional\
 , elegant\, and swirling Viennese waltz by Johann Strauss\, Jr.\, the “Wa
 ltz King.” You will enjoy the stately and classical Rococo Variations wit
 h Hellam Competition Winner Bryan Cheng on the cello. We conclude our con
 cert with Mahler’s Symphony No. 1\, which includes foot-stomping dances a
 nd yodeling from one of Mahler’s early songs\, Hans und Grete. "Dance aro
 und\, around!" the song goes. "Let whoever is happy weave in and out! Let
  whoever has cares find his way home.
X-ALT-DESC;FMTTYPE=text/html:&lt;html&gt;&lt;head&gt;&lt;title&gt;&lt;/title&gt;&lt;/head&gt;&lt;body&gt;&lt;p&gt;At
  our final Classical masterworks concert of the year\, we bring Europe’s 
 many dance traditions together. You will hear a traditional\, elegant\, a
 nd swirling Viennese waltz by Johann Strauss\, Jr.\, the “Waltz King.” Yo
 u will enjoy the stately and classical&amp;nbsp\;&lt;em&gt;&lt;strong&gt;Rococo Variation
 s&lt;/strong&gt;&lt;/em&gt;&amp;nbsp\;with Hellam Competition Winner Bryan Cheng on the c
 ello. We conclude our concert with Mahler’s&amp;nbsp\;&lt;em&gt;&lt;strong&gt;Symphony No
 . 1&lt;/strong&gt;&lt;/em&gt;\, which includes foot-stomping dances and yodeling from
  one of Mahler’s early songs\,&amp;nbsp\;&lt;em&gt;Hans und Grete&lt;/em&gt;. "Dance arou
 nd\, around!" the song goes. "Let whoever is happy weave in and out! Let 
 whoever has cares find his way home.&lt;/p&gt;&lt;/body&gt;&lt;/html&gt;
DTSTART;TZID=America/Chicago:20220402T193000
DTEND;TZID=America/Chicago:20220402T213000
SEQUENCE:0
URL:115710.png
CATEGORIES:Public,Alumni,Current Students,Faculty,Future Students,Staff
END:VEVENT
END:VCALENDAR