BEGIN:VCALENDAR
VERSION:2.0
METHOD:PUBLISH
PRODID:-//Missouri State University/Calendar of Events//EN
CALSCALE:GREGORIAN
X-WR-TIMEZONE:America/Chicago
BEGIN:VTIMEZONE
TZID:America/Chicago
BEGIN:DAYLIGHT
TZOFFSETFROM:-0600
TZOFFSETTO:-0500
DTSTART:20070311T020000
RRULE:FREQ=YEARLY;BYMONTH=3;BYDAY=2SU
TZNAME:CDT
END:DAYLIGHT
BEGIN:STANDARD
TZOFFSETFROM:-0500
TZOFFSETTO:-0600
DTSTART:20071104T020000
RRULE:FREQ=YEARLY;BYMONTH=11;BYDAY=1SU
TZNAME:CST
END:STANDARD
END:VTIMEZONE
BEGIN:VEVENT
UID:fdf3df20-6768-4774-8c19-1794257ea595.220372@calendar.missouristate.edu
CREATED:20220323T210121Z
LAST-MODIFIED:20220323T210121Z
LOCATION:Hammons Hall for the Performing Arts\, Juanita K.
SUMMARY:CATS
DESCRIPTION:Andrew Lloyd Webber’s record-breaking musical spectacular that
  has captivated audiences in over 30 countries and 15 languages\, is now 
 on tour across North America!\n\n\nAudiences and critics alike are redisc
 overing this beloved musical with breathtaking music and stunning choreog
 raphy. Winner of seven Tony Awards® including Best Musical\, CATS tells t
 he story of one magical night when an extraordinary tribe of cats gathers
  for its annual ball to rejoice and decide which cat will be reborn.\n\n\
 nThe original score by Webber\, original scenic and costume design by Joh
 n Napier\, all-new lighting design by Natasha Katz\, all-new sound design
  by Mick Potter\, new choreography by Andy Blankenbuehler based on the or
 iginal choreography by Gillian Lynne and direction by Trevor Nunn\, make 
 this production a new CATS for a new generation!\n\n\nAll patrons aged 2 
 and older must have a ticket.\n\n\nBUYER BEWARE! HammonsHall.com and Miss
 ouriStateTix.com are the ONLY official online ticketing services for Juan
 ita K. Hammons Hall for the Performing Arts events. Tickets sold online a
 t any other web location may reflect inflated pricing and/or speculative 
 seating options. Juanita K. Hammons Hall cannot assume responsibility for
  unauthorized ticket purchases.
X-ALT-DESC;FMTTYPE=text/html:&lt;html&gt;&lt;head&gt;&lt;title&gt;&lt;/title&gt;&lt;/head&gt;&lt;body&gt;&lt;p&gt;An
 drew Lloyd Webber’s record-breaking musical spectacular that has captivat
 ed audiences in over 30 countries and 15 languages\, is now on tour acros
 s North America!&lt;/p&gt;\n&lt;p&gt;Audiences and critics alike are rediscovering th
 is beloved musical with breathtaking music and stunning choreography. Win
 ner of seven Tony Awards® including Best Musical\, &lt;strong&gt;CATS&lt;/strong&gt; 
 tells the story of one magical night when an extraordinary tribe of cats 
 gathers for its annual ball to rejoice and decide which cat will be rebor
 n.&lt;/p&gt;\n&lt;p&gt;The original score by Webber\, original scenic and costume des
 ign by John Napier\, all-new lighting design by Natasha Katz\, all-new so
 und design by Mick Potter\, new choreography by Andy Blankenbuehler based
  on the original choreography by Gillian Lynne and direction by Trevor Nu
 nn\, make this production a new &lt;strong&gt;CATS&lt;/strong&gt; for a new generatio
 n!&lt;/p&gt;\n&lt;p&gt;&lt;em&gt;All patrons aged 2 and older must have a ticket.&lt;/em&gt;&lt;/p&gt;\
 n&lt;p&gt;&lt;em&gt;&lt;strong&gt;BUYER BEWARE! HammonsHall.com and MissouriStateTix.com ar
 e the ONLY official online ticketing services for Juanita K. Hammons Hall
  for the Performing Arts events&lt;/strong&gt;. Tickets sold online at any othe
 r web location may reflect inflated pricing and/or speculative seating op
 tions. Juanita K. Hammons Hall cannot assume responsibility for unauthori
 zed ticket purchases.&lt;/em&gt;&lt;/p&gt;&lt;/body&gt;&lt;/html&gt;
DTSTART;TZID=America/Chicago:20220517T193000
DTEND;TZID=America/Chicago:20220517T220000
SEQUENCE:0
URL:115714.jpg
CATEGORIES:Public,Alumni,Current Students,Faculty,Future Students,Staff
END:VEVENT
END:VCALENDAR