BEGIN:VCALENDAR
VERSION:2.0
METHOD:PUBLISH
PRODID:-//Missouri State University/Calendar of Events//EN
CALSCALE:GREGORIAN
X-WR-TIMEZONE:America/Chicago
BEGIN:VTIMEZONE
TZID:America/Chicago
BEGIN:DAYLIGHT
TZOFFSETFROM:-0600
TZOFFSETTO:-0500
DTSTART:20070311T020000
RRULE:FREQ=YEARLY;BYMONTH=3;BYDAY=2SU
TZNAME:CDT
END:DAYLIGHT
BEGIN:STANDARD
TZOFFSETFROM:-0500
TZOFFSETTO:-0600
DTSTART:20071104T020000
RRULE:FREQ=YEARLY;BYMONTH=11;BYDAY=1SU
TZNAME:CST
END:STANDARD
END:VTIMEZONE
BEGIN:VEVENT
UID:f28aec80-a040-4f86-9ad3-c1f6dcf8724d.220375@calendar.missouristate.edu
CREATED:20220315T160211Z
LAST-MODIFIED:20220315T160211Z
LOCATION:Hammons Hall for the Performing Arts\, Juanita K.
SUMMARY:PAW Patrol Live! The Great Pirate Adventure
DESCRIPTION:X barks the spot in PAW Patrol Live! “The Great Pirate Adventu
 re”! It’s Pirate Day in Adventure Bay\, and Mayor Goodway is getting read
 y for a big celebration! But first\, Ryder and his team of pirate pups mu
 st rescue Cap’n Turbot from a mysterious cavern. When they do\, they also
  discover a secret pirate treasure map! The PAW Patrol set out over land 
 and sea to find the treasure for Mayor Goodway’s celebration before Mayor
  Humdinger finds it first! The pups will need all paws on deck for this p
 irate adventure\, including some help from the newest pup … Tracker!\n\n\
 nPurchase a VIP Package and become a VIP- Very Important Pup! The VIP pac
 kage includes a premium seat and exclusive Photo Op with PAW Patrol chara
 cters after the show. Each adult &amp; child (age 1 &amp; up) in a group must hav
 e a VIP ticket.\n\n\nPLEASE NOTE: HammonsHall.com and MissouriStateTix.co
 m are the ONLY official online ticketing services for Juanita K. Hammons 
 Hall for the Performing Arts events. Tickets sold online at any other web
  location may reflect inflated pricing and/or speculative seating options
 . Juanita K. Hammons Hall cannot assume responsibility for unauthorized t
 icket purchases.
X-ALT-DESC;FMTTYPE=text/html:&lt;html&gt;&lt;head&gt;&lt;title&gt;&lt;/title&gt;&lt;/head&gt;&lt;body&gt;&lt;p&gt;X 
 barks the spot in PAW Patrol Live! “The Great Pirate Adventure”! It’s Pir
 ate Day in Adventure Bay\, and Mayor Goodway is getting ready for a big c
 elebration! But first\, Ryder and his team of pirate pups must rescue Cap
 ’n Turbot from a mysterious cavern. When they do\, they also discover a s
 ecret pirate treasure map! The PAW Patrol set out over land and sea to fi
 nd the treasure for Mayor Goodway’s celebration before Mayor Humdinger fi
 nds it first! The pups will need all paws on deck for this pirate adventu
 re\, including some help from the newest pup … Tracker!&lt;/p&gt;\n&lt;p&gt;Purchase 
 a VIP Package and become a VIP- Very Important Pup! The VIP package inclu
 des a premium seat and exclusive Photo Op with PAW Patrol characters afte
 r the show. Each adult &amp;amp\; child (age 1 &amp;amp\; up) in a group must hav
 e a VIP ticket.&lt;/p&gt;\n&lt;p&gt;&lt;strong&gt;&lt;em&gt;PLEASE NOTE:&amp;nbsp\;&lt;/em&gt;&lt;/strong&gt;&lt;str
 ong&gt;&lt;em&gt;HammonsHall.com&amp;nbsp\;&lt;/em&gt;&lt;/strong&gt;&lt;strong&gt;&lt;em&gt;and&amp;nbsp\;&lt;/em&gt;&lt;/
 strong&gt;&lt;strong&gt;&lt;em&gt;MissouriStateTix.com&amp;nbsp\;&lt;/em&gt;&lt;/strong&gt;&lt;strong&gt;&lt;em&gt;a
 re the ONLY official online ticketing services for Juanita K. Hammons Hal
 l for the Performing Arts events.&lt;/em&gt;&lt;/strong&gt;&lt;em&gt;&amp;nbsp\;Tickets sold on
 line at any other web location may reflect inflated pricing and/or specul
 ative seating options. Juanita K. Hammons Hall cannot assume responsibili
 ty for unauthorized ticket purchases.&lt;/em&gt;&lt;/p&gt;&lt;/body&gt;&lt;/html&gt;
DTSTART;TZID=America/Chicago:20220524T180000
DTEND;TZID=America/Chicago:20220524T210000
SEQUENCE:0
URL:115715.png
CATEGORIES:Public,Alumni,Current Students,Faculty,Future Students,Staff
END:VEVENT
END:VCALENDAR