BEGIN:VCALENDAR
VERSION:2.0
METHOD:PUBLISH
PRODID:-//Missouri State University/Calendar of Events//EN
CALSCALE:GREGORIAN
X-WR-TIMEZONE:America/Chicago
BEGIN:VTIMEZONE
TZID:America/Chicago
BEGIN:DAYLIGHT
TZOFFSETFROM:-0600
TZOFFSETTO:-0500
DTSTART:20070311T020000
RRULE:FREQ=YEARLY;BYMONTH=3;BYDAY=2SU
TZNAME:CDT
END:DAYLIGHT
BEGIN:STANDARD
TZOFFSETFROM:-0500
TZOFFSETTO:-0600
DTSTART:20071104T020000
RRULE:FREQ=YEARLY;BYMONTH=11;BYDAY=1SU
TZNAME:CST
END:STANDARD
END:VTIMEZONE
BEGIN:VEVENT
UID:ed122056-b2a9-49cb-9d1c-c96bdbf734bb.220377@calendar.missouristate.edu
CREATED:20220606T151637Z
LAST-MODIFIED:20220606T151637Z
LOCATION:Hammons Hall for the Performing Arts\, Juanita K.
SUMMARY:ANASTASIA
DESCRIPTION:Inspired by the beloved films\, the romantic and adventure-fil
 led new musical ANASTASIA is on a journey to Springfield at last! \n\n\nF
 rom the Tony Award®-winning creators of the Broadway classic Ragtime\, th
 is dazzling show transports audiences from the twilight of the Russian Em
 pire to the euphoria of Paris in the 1920s\, as a brave young woman sets 
 out to discover the mystery of her past. Pursued by a ruthless Soviet off
 icer determined to silence her\, Anya enlists the aid of a dashing conman
  and a lovable ex-aristocrat. Together\, they embark on an epic adventure
  to help her find home\, love and family. \n\n\nANASTASIA features a book
  by celebrated playwright Terrence McNally\, a lush new score by Stephen 
 Flaherty (music) and Lynn Ahrens (lyrics) based on original direction by 
 Tony Award®-winner Darko Tresnjak with choreography by Peggy Hickey and t
 our direction by Sarah Hartmann. \n\n\nAll patrons aged 2 and older must 
 have a ticket.\n\n\nBUYER BEWARE! HammonsHall.com and MissouriStateTix.co
 m are the ONLY official online ticketing services for Juanita K. Hammons 
 Hall for the Performing Arts events. Tickets sold online at any other web
  location may reflect inflated pricing and/or speculative seating options
 . Juanita K. Hammons Hall cannot assume responsibility for unauthorized t
 icket purchases.
X-ALT-DESC;FMTTYPE=text/html:&lt;html&gt;&lt;head&gt;&lt;title&gt;&lt;/title&gt;&lt;/head&gt;&lt;body&gt;&lt;p&gt;In
 spired by the beloved films\, the romantic and adventure-filled new music
 al&amp;nbsp\;&lt;strong&gt;ANASTASIA&lt;/strong&gt;&amp;nbsp\;is on a journey to Springfield 
 at last!&amp;nbsp\;&lt;/p&gt;\n&lt;p&gt;From the Tony Award&lt;sup&gt;®&lt;/sup&gt;-winning creators 
 of the Broadway classic&amp;nbsp\;Ragtime\, this dazzling show transports aud
 iences from the twilight of the Russian Empire to the euphoria of Paris i
 n the 1920s\, as a brave young woman sets out to discover the mystery of 
 her past. Pursued by a ruthless Soviet officer determined to silence her\
 , Anya enlists the aid of a dashing conman and a lovable ex-aristocrat. T
 ogether\, they embark on an epic adventure to help her find home\, love a
 nd family.&amp;nbsp\;&lt;/p&gt;\n&lt;p&gt;&lt;strong&gt;ANASTASIA&amp;nbsp\;&lt;/strong&gt;features a boo
 k by celebrated playwright Terrence McNally\, a lush new score by Stephen
  Flaherty (music) and Lynn Ahrens (lyrics)&amp;nbsp\;based on original direct
 ion by Tony Award®-winner Darko Tresnjak with choreography by Peggy Hicke
 y and tour direction by Sarah Hartmann.&amp;nbsp\;&lt;/p&gt;\n&lt;p&gt;&lt;em&gt;All patrons ag
 ed 2 and older must have a ticket.&lt;/em&gt;&lt;/p&gt;\n&lt;p&gt;&lt;strong&gt;&lt;em&gt;BUYER BEWARE!
  HammonsHall.com and MissouriStateTix.com are the ONLY official online ti
 cketing services for Juanita K. Hammons Hall for the Performing Arts even
 ts.&lt;/em&gt;&lt;/strong&gt;&lt;em&gt;&amp;nbsp\;Tickets sold online at any other web location
  may reflect inflated pricing and/or speculative seating options. Juanita
  K. Hammons Hall cannot assume responsibility for unauthorized ticket pur
 chases.&lt;/em&gt;&lt;/p&gt;&lt;/body&gt;&lt;/html&gt;
DTSTART;TZID=America/Chicago:20220613T193000
DTEND;TZID=America/Chicago:20220613T220000
SEQUENCE:0
URL:115716.jpg
CATEGORIES:Public,Alumni,Current Students,Faculty,Future Students,Staff
END:VEVENT
END:VCALENDAR