BEGIN:VCALENDAR
VERSION:2.0
METHOD:PUBLISH
PRODID:-//Missouri State University/Calendar of Events//EN
CALSCALE:GREGORIAN
X-WR-TIMEZONE:America/Chicago
BEGIN:VTIMEZONE
TZID:America/Chicago
BEGIN:DAYLIGHT
TZOFFSETFROM:-0600
TZOFFSETTO:-0500
DTSTART:20070311T020000
RRULE:FREQ=YEARLY;BYMONTH=3;BYDAY=2SU
TZNAME:CDT
END:DAYLIGHT
BEGIN:STANDARD
TZOFFSETFROM:-0500
TZOFFSETTO:-0600
DTSTART:20071104T020000
RRULE:FREQ=YEARLY;BYMONTH=11;BYDAY=1SU
TZNAME:CST
END:STANDARD
END:VTIMEZONE
BEGIN:VEVENT
UID:b245d3cb-7888-418b-94f6-31474b92dd67.220428@calendar.missouristate.edu
CREATED:20220314T141557Z
LAST-MODIFIED:20220314T141557Z
LOCATION:Meyer Library\, Duane G. 302
SUMMARY:An MSU Libraries Tribute to Ozark Jubilee  
DESCRIPTION:To commemorate the completion of its massive\, multi-year Ozar
 k Jubilee Digitization Project\, the Missouri State University Libraries 
 will host a free and open-to-the-public reception.\n\n\nThe celebration w
 ill feature displays and digitized footage of Ozark Jubilee\, as well as 
 remarks from lead contributors on the project: Tom Peters\, MSU dean of l
 ibrary services\, and Wayne Glenn\, retired radio host. Ozarks-inspired r
 efreshments will be served.\n\n\nTo RSVP\, email library@missouristate.ed
 u. \n\n\nAbout the project \n\n\nOzark Jubilee was a live\, weekly televi
 sion show broadcast from Springfield in the late 1950s. The show bolstere
 d the region’s music scene and launched the careers of many country music
  stars including Brenda Lee and Porter Wagoner.\n\n\nThe MSU Libraries’ d
 igitization project began several years ago\, when Wayne Glenn approached
  Tom Peters about a large collection of approximately 65 Ozark Jubilee ki
 nescopes at the UCLA Film and Television Archive. After some negotiations
 \, UCLA agreed to digitize their kinescopes and send copies of the kinesc
 opes to the MSU Libraries\, where they were lightly edited\, transcribed 
 and made available online to the general public. 
X-ALT-DESC;FMTTYPE=text/html:&lt;html&gt;&lt;head&gt;&lt;title&gt;&lt;/title&gt;&lt;/head&gt;&lt;body&gt;&lt;p&gt;To
  commemorate the completion of its massive\, multi-year Ozark Jubilee Dig
 itization Project\, the Missouri State University Libraries will host a f
 ree and open-to-the-public reception.&lt;/p&gt;\n&lt;p&gt;The celebration will featur
 e displays and digitized footage of Ozark Jubilee\, as well as remarks fr
 om lead contributors on the project: Tom Peters\, MSU dean of library ser
 vices\, and Wayne Glenn\, retired radio host. Ozarks-inspired refreshment
 s will be served.&lt;/p&gt;\n&lt;p&gt;To RSVP\, email &lt;a&gt;library@missouristate.edu.&lt;/
 a&gt;&lt;a&gt;&amp;nbsp\;&lt;/a&gt;&lt;/p&gt;\n&lt;p&gt;&lt;b&gt;About the project &lt;/b&gt;&lt;/p&gt;\n&lt;p&gt;Ozark Jubilee 
 was a live\, weekly television show broadcast from Springfield in the lat
 e 1950s. The show bolstered the region’s music scene and launched the car
 eers of many country music stars including Brenda Lee and Porter Wagoner.
 &lt;/p&gt;\n&lt;p&gt;The MSU Libraries’ digitization project began several years ago\
 , when Wayne Glenn approached Tom Peters about a large collection of appr
 oximately 65 Ozark Jubilee kinescopes at the UCLA Film and Television Arc
 hive. After some negotiations\, UCLA agreed to digitize their kinescopes 
 and send copies of the kinescopes to the MSU Libraries\, where they were 
 lightly edited\, transcribed and&amp;nbsp\;&lt;a href="https://msulib.me/OzarkJu
 bilee"&gt;made available online&lt;/a&gt; to the general public.&amp;nbsp\;&lt;/p&gt;\n&lt;p&gt;&lt;/
 p&gt;&lt;/body&gt;&lt;/html&gt;
DTSTART;TZID=America/Chicago:20220421T000000
DTEND;TZID=America/Chicago:20220421T000000
SEQUENCE:0
URL:115727.png
CATEGORIES:Public,Alumni,Current Students,Faculty,Staff
END:VEVENT
END:VCALENDAR