BEGIN:VCALENDAR
VERSION:2.0
METHOD:PUBLISH
PRODID:-//Missouri State University/Calendar of Events//EN
CALSCALE:GREGORIAN
X-WR-TIMEZONE:America/Chicago
BEGIN:VTIMEZONE
TZID:America/Chicago
BEGIN:DAYLIGHT
TZOFFSETFROM:-0600
TZOFFSETTO:-0500
DTSTART:20070311T020000
RRULE:FREQ=YEARLY;BYMONTH=3;BYDAY=2SU
TZNAME:CDT
END:DAYLIGHT
BEGIN:STANDARD
TZOFFSETFROM:-0500
TZOFFSETTO:-0600
DTSTART:20071104T020000
RRULE:FREQ=YEARLY;BYMONTH=11;BYDAY=1SU
TZNAME:CST
END:STANDARD
END:VTIMEZONE
BEGIN:VEVENT
UID:2928c4ef-a084-4a65-a46e-cfe620382842.220429@calendar.missouristate.edu
CREATED:20220310T220242Z
LAST-MODIFIED:20220310T220242Z
LOCATION:https://missouristate.zoom.us/j/92367787420
SUMMARY:Career Fair Prep Workshops
DESCRIPTION:Prepare for the Career Expo and Education Fair during the mont
 h of April by attending one of these preparation workshops:\n\n\n\nMarch 
 29\, 2 p.m.\nMarch 31\, 4 p.m.\nApril 5\, 1 p.m.\nApril 6\, 12:30 p.m.\n\
 nLearn what to expect from a career fair\, how to research the employers 
 and graduate schools that will be attending the fair\, and how to interac
 t and follow up with employers and representatives. These workshops will 
 provide tips on ways to make your virtual career fair experience successf
 ul for networking and searching for jobs\, internships or graduate school
 s.
X-ALT-DESC;FMTTYPE=text/html:&lt;html&gt;&lt;head&gt;&lt;title&gt;&lt;/title&gt;&lt;/head&gt;&lt;body&gt;&lt;p&gt;&lt;s
 pan&gt;Prepare for the Career Expo and Education Fair during the month of Ap
 ril by attending one of these preparation workshops:&lt;/span&gt;&lt;/p&gt;\n&lt;ul&gt;\n&lt;l
 i&gt;&lt;span&gt;March 29\, 2 p.m.&lt;/span&gt;&lt;/li&gt;\n&lt;li&gt;&lt;span&gt;March 31\, 4 p.m.&lt;/span&gt;
 &lt;/li&gt;\n&lt;li&gt;&lt;span&gt;April 5\, 1 p.m.&lt;/span&gt;&lt;/li&gt;\n&lt;li&gt;&lt;span&gt;April 6\, 12:30 
 p.m.&lt;/span&gt;&lt;/li&gt;\n&lt;/ul&gt;\n&lt;p&gt;&lt;span&gt;Learn what to expect from a career fair
 \, how to research the employers and graduate schools that will be attend
 ing the fair\, and how to interact and follow up with employers and repre
 sentatives. These workshops will provide tips on ways to make your virtua
 l career fair experience successful for networking and searching for jobs
 \, internships or graduate schools.&lt;/span&gt;&lt;span&gt;&lt;/span&gt;&lt;/p&gt;&lt;/body&gt;&lt;/html&gt;
DTSTART;TZID=America/Chicago:20220329T140000
DTEND;TZID=America/Chicago:20220329T150000
SEQUENCE:0
URL:https://careercenter.missouristate.edu/Career-fairs.htm
CATEGORIES:Alumni,Current Students,Faculty,Staff
END:VEVENT
END:VCALENDAR