BEGIN:VCALENDAR
VERSION:2.0
METHOD:PUBLISH
PRODID:-//Missouri State University/Calendar of Events//EN
CALSCALE:GREGORIAN
X-WR-TIMEZONE:America/Chicago
BEGIN:VTIMEZONE
TZID:America/Chicago
BEGIN:DAYLIGHT
TZOFFSETFROM:-0600
TZOFFSETTO:-0500
DTSTART:20070311T020000
RRULE:FREQ=YEARLY;BYMONTH=3;BYDAY=2SU
TZNAME:CDT
END:DAYLIGHT
BEGIN:STANDARD
TZOFFSETFROM:-0500
TZOFFSETTO:-0600
DTSTART:20071104T020000
RRULE:FREQ=YEARLY;BYMONTH=11;BYDAY=1SU
TZNAME:CST
END:STANDARD
END:VTIMEZONE
BEGIN:VEVENT
UID:f86e68f4-f1d2-4a94-825e-a455e1e79fa6.220450@calendar.missouristate.edu
CREATED:20220314T181346Z
LAST-MODIFIED:20220314T181346Z
LOCATION:Plaster Student Union\, Robert W. Theater
SUMMARY:MSU Film Series Presents Documentary Shorts by Jesseca Ynez Simmons
DESCRIPTION:MSU Film Series presents a variety of documentary shorts by fi
 lmmaker Jesseca Ynez Simmons.\n\n\nRecognized by the American Society of 
 Cinematographers\, Simmons will also screen her work-in-progress document
 ary feature\, "Medusa."\n\n\nQ&amp;A to follow screening.\n\n\nFree parking i
 n lots 14 at 29 at the meters.\n\n\nFor more information\, please contact
  Deborah Larson or Jocelyn Millana.
X-ALT-DESC;FMTTYPE=text/html:&lt;html&gt;&lt;head&gt;&lt;title&gt;&lt;/title&gt;&lt;/head&gt;&lt;body&gt;&lt;p&gt;MS
 U Film Series presents a variety of documentary shorts by filmmaker &lt;a hr
 ef="https://www.jessecaysimmons.com/about" target="_blank" title="Meet Je
 ssica Ynez Simmons"&gt;Jesseca Ynez Simmons&lt;/a&gt;.&lt;/p&gt;\n&lt;p&gt;Recognized by the A
 merican Society of Cinematographers\, Simmons will also screen her work-i
 n-progress documentary feature\, "Medusa."&lt;/p&gt;\n&lt;p&gt;Q&amp;amp\;A to follow scr
 eening.&lt;/p&gt;\n&lt;p&gt;Free parking&amp;nbsp\;in lots 14 at 29 at the meters.&lt;/p&gt;\n&lt;
 p&gt;For more information\, please contact&amp;nbsp\;&lt;a href="https://mjf.missou
 ristate.edu/DLarson.aspx" target="_blank" title="Contact Deborah"&gt;Deborah
  Larson&lt;/a&gt; or &lt;a href="https://mjf.missouristate.edu/JMillana.aspx" targ
 et="_blank" title="Contact Jocelyn"&gt;Jocelyn Millana&lt;/a&gt;.&lt;/p&gt;&lt;/body&gt;&lt;/html&gt;
DTSTART;TZID=America/Chicago:20220331T170000
DTEND;TZID=America/Chicago:20220331T193000
SEQUENCE:1
URL:115730.jpg
CATEGORIES:Public,Alumni,Current Students,Faculty,Staff
END:VEVENT
END:VCALENDAR