BEGIN:VCALENDAR
VERSION:2.0
METHOD:PUBLISH
PRODID:-//Missouri State University/Calendar of Events//EN
CALSCALE:GREGORIAN
X-WR-TIMEZONE:America/Chicago
BEGIN:VTIMEZONE
TZID:America/Chicago
BEGIN:DAYLIGHT
TZOFFSETFROM:-0600
TZOFFSETTO:-0500
DTSTART:20070311T020000
RRULE:FREQ=YEARLY;BYMONTH=3;BYDAY=2SU
TZNAME:CDT
END:DAYLIGHT
BEGIN:STANDARD
TZOFFSETFROM:-0500
TZOFFSETTO:-0600
DTSTART:20071104T020000
RRULE:FREQ=YEARLY;BYMONTH=11;BYDAY=1SU
TZNAME:CST
END:STANDARD
END:VTIMEZONE
BEGIN:VEVENT
UID:39f98666-762f-4b82-b33d-ba80140eb878.220451@calendar.missouristate.edu
CREATED:20220314T192912Z
LAST-MODIFIED:20220314T192912Z
LOCATION:Plaster Student Union\, Robert W. 400
SUMMARY:Etiquette Dinner
DESCRIPTION:The Career Center will host an Etiquette Dinner sponsored by P
 addio\, Waffle House and other employers.\n\n\nOur guest speaker is Jaime
  Trussell\, MSU alumnae and CEO of Council of Churches of the Ozarks. \n\
 n\n\nCheck-in: 5:30 p.m.\nDinner and presentation: starts at 6 p.m.\n\nRe
 gistration is open through Handshake and closes on April 8 by 5 p.m.\n\n\
 nStudent fee: $10.28 (payment by credit card only)
X-ALT-DESC;FMTTYPE=text/html:&lt;html&gt;&lt;head&gt;&lt;title&gt;&lt;/title&gt;&lt;/head&gt;&lt;body&gt;&lt;p&gt;Th
 e Career Center will host an &lt;strong&gt;Etiquette Dinner&lt;/strong&gt;&amp;nbsp\;spon
 sored by Paddio\, Waffle House and other employers.&lt;/p&gt;\n&lt;p&gt;Our guest spe
 aker is Jaime Trussell\, MSU alumnae and CEO of Council of Churches of th
 e Ozarks.&amp;nbsp\;&lt;/p&gt;\n&lt;ul&gt;\n&lt;li&gt;Check-in:&amp;nbsp\;5:30 p.m.&lt;/li&gt;\n&lt;li&gt;Dinne
 r and presentation: starts at&amp;nbsp\;6 p.m.&lt;/li&gt;\n&lt;/ul&gt;\n&lt;p&gt;Registration i
 s open through&amp;nbsp\;&lt;a href="https://app.joinhandshake.com/edu/career_fa
 irs/28793" target="_blank" title="Etiquette dinner registration on Handsh
 ake"&gt;Handshake&lt;/a&gt; and closes on April 8 by&amp;nbsp\;5 p.m.&lt;/p&gt;\n&lt;p&gt;Student 
 fee: $10.28 (payment by credit card only)&lt;/p&gt;&lt;/body&gt;&lt;/html&gt;
DTSTART;TZID=America/Chicago:20220421T180000
DTEND;TZID=America/Chicago:20220421T193000
SEQUENCE:0
URL:https://careercenter.missouristate.edu/EtiquetteDinner.htm
CATEGORIES:Alumni,Current Students
END:VEVENT
END:VCALENDAR