BEGIN:VCALENDAR
VERSION:2.0
METHOD:PUBLISH
PRODID:-//Missouri State University/Calendar of Events//EN
CALSCALE:GREGORIAN
X-WR-TIMEZONE:America/Chicago
BEGIN:VTIMEZONE
TZID:America/Chicago
BEGIN:DAYLIGHT
TZOFFSETFROM:-0600
TZOFFSETTO:-0500
DTSTART:20070311T020000
RRULE:FREQ=YEARLY;BYMONTH=3;BYDAY=2SU
TZNAME:CDT
END:DAYLIGHT
BEGIN:STANDARD
TZOFFSETFROM:-0500
TZOFFSETTO:-0600
DTSTART:20071104T020000
RRULE:FREQ=YEARLY;BYMONTH=11;BYDAY=1SU
TZNAME:CST
END:STANDARD
END:VTIMEZONE
BEGIN:VEVENT
UID:ab07febd-956c-4969-a967-326b140e6485.220466@calendar.missouristate.edu
CREATED:20220318T051513Z
LAST-MODIFIED:20220318T051513Z
LOCATION:Des Moines\, Iowa
SUMMARY:Missouri State University Women's Track vs MVC Outdoor Championshi
 ps
DESCRIPTION:Missouri State University Women's Track plays MVC Outdoor Cham
 pionships
X-ALT-DESC;FMTTYPE=text/html:&lt;html&gt;&lt;head&gt;&lt;title&gt;&lt;/title&gt;&lt;/head&gt;&lt;body&gt;Misso
 uri State University Women's Track plays MVC Outdoor Championships&lt;/body&gt;
 &lt;/html&gt;
DTSTART;VALUE=DATE:20220513
DTEND;VALUE=DATE:20220514
SEQUENCE:0
URL:http://missouristatebears.com/index.aspx?path=wtrack
CATEGORIES:Current Students,Future Students,Parents and Family,Alumni,
 Faculty,Staff,Community,Visitors,Athletics
END:VEVENT
END:VCALENDAR