BEGIN:VCALENDAR
VERSION:2.0
METHOD:PUBLISH
PRODID:-//Missouri State University/Calendar of Events//EN
CALSCALE:GREGORIAN
X-WR-TIMEZONE:America/Chicago
BEGIN:VTIMEZONE
TZID:America/Chicago
BEGIN:DAYLIGHT
TZOFFSETFROM:-0600
TZOFFSETTO:-0500
DTSTART:20070311T020000
RRULE:FREQ=YEARLY;BYMONTH=3;BYDAY=2SU
TZNAME:CDT
END:DAYLIGHT
BEGIN:STANDARD
TZOFFSETFROM:-0500
TZOFFSETTO:-0600
DTSTART:20071104T020000
RRULE:FREQ=YEARLY;BYMONTH=11;BYDAY=1SU
TZNAME:CST
END:STANDARD
END:VTIMEZONE
BEGIN:VEVENT
UID:59033b46-0a4f-4c14-be43-97077a13831b.220480@calendar.missouristate.edu
CREATED:20220322T051508Z
LAST-MODIFIED:20220322T051508Z
LOCATION:Fort Worth\, Texas
SUMMARY:Missouri State University Beach Volleyball vs Stanford
DESCRIPTION:Missouri State University Beach Volleyball plays Stanford TV: 
 ESPN3
X-ALT-DESC;FMTTYPE=text/html:&lt;html&gt;&lt;head&gt;&lt;title&gt;&lt;/title&gt;&lt;/head&gt;&lt;body&gt;Misso
 uri State University Beach Volleyball plays Stanford &lt;br&gt;&lt;br&gt;TV: ESPN3&lt;/b
 ody&gt;&lt;/html&gt;
DTSTART;TZID=America/Chicago:20220416T093000
DTEND;TZID=America/Chicago:20220416T113000
SEQUENCE:0
URL:http://missouristatebears.com/index.aspx?path=wvball
CATEGORIES:Current Students,Future Students,Parents and Family,Alumni,
 Faculty,Staff,Community,Visitors,Athletics
END:VEVENT
END:VCALENDAR