BEGIN:VCALENDAR
VERSION:2.0
METHOD:PUBLISH
PRODID:-//Missouri State University/Calendar of Events//EN
CALSCALE:GREGORIAN
X-WR-TIMEZONE:America/Chicago
BEGIN:VTIMEZONE
TZID:America/Chicago
BEGIN:DAYLIGHT
TZOFFSETFROM:-0600
TZOFFSETTO:-0500
DTSTART:20070311T020000
RRULE:FREQ=YEARLY;BYMONTH=3;BYDAY=2SU
TZNAME:CDT
END:DAYLIGHT
BEGIN:STANDARD
TZOFFSETFROM:-0500
TZOFFSETTO:-0600
DTSTART:20071104T020000
RRULE:FREQ=YEARLY;BYMONTH=11;BYDAY=1SU
TZNAME:CST
END:STANDARD
END:VTIMEZONE
BEGIN:VEVENT
UID:20cbd2d5-f7d5-4bbd-b852-d83b5d2e7606.220483@calendar.missouristate.edu
CREATED:20220322T155942Z
LAST-MODIFIED:20220322T155942Z
LOCATION:Siceluff Hall Second Floor Landing
SUMMARY:Book Sale and Instagram Wall
DESCRIPTION:The English Department’s English Week Book Sale will be held M
 onday\, April 4th from 9 a.m. – 3 p.m. on the second floor landing of Sic
 eluff Hall.\n\n\nProceeds from the book sale will go directly to 'Books t
 o the Rescue'\, a nonprofit organization promoting childhood literacy and
  increased access to reading materials by raising funds to sponsor a loca
 l elementary school's annual book fair.\n\n\nWhile you’re shopping\, be s
 ure to take a #shelfie at our Instagram wall\, where you can pose with yo
 ur new books and share your excitement about English Week!
X-ALT-DESC;FMTTYPE=text/html:&lt;html&gt;&lt;head&gt;&lt;title&gt;&lt;/title&gt;&lt;/head&gt;&lt;body&gt;&lt;p&gt;Th
 e English Department’s English Week Book Sale will be held Monday\, April
  4th from 9 a.m. – 3 p.m. on the second floor landing of Siceluff Hall.&lt;/
 p&gt;\n&lt;p&gt;Proceeds from the book sale will go directly to 'Books to the Resc
 ue'\, a nonprofit organization promoting childhood literacy and increased
  access to reading materials by raising funds to sponsor a local elementa
 ry school's annual book fair.&lt;/p&gt;\n&lt;p&gt;While you’re shopping\, be sure to 
 take a #shelfie at our Instagram wall\, where you can pose with your new 
 books and share your excitement about English Week!&lt;/p&gt;\n&lt;p&gt;&lt;br&gt;&lt;br&gt;&lt;/p&gt;\
 n&lt;p&gt;&lt;/p&gt;&lt;/body&gt;&lt;/html&gt;
DTSTART;TZID=America/Chicago:20220404T090000
DTEND;TZID=America/Chicago:20220404T150000
SEQUENCE:0
URL:https://english.missouristate.edu/english-week.htm
CATEGORIES:Current Students,Faculty,Staff
END:VEVENT
END:VCALENDAR