BEGIN:VCALENDAR
VERSION:2.0
METHOD:PUBLISH
PRODID:-//Missouri State University/Calendar of Events//EN
CALSCALE:GREGORIAN
X-WR-TIMEZONE:America/Chicago
BEGIN:VTIMEZONE
TZID:America/Chicago
BEGIN:DAYLIGHT
TZOFFSETFROM:-0600
TZOFFSETTO:-0500
DTSTART:20070311T020000
RRULE:FREQ=YEARLY;BYMONTH=3;BYDAY=2SU
TZNAME:CDT
END:DAYLIGHT
BEGIN:STANDARD
TZOFFSETFROM:-0500
TZOFFSETTO:-0600
DTSTART:20071104T020000
RRULE:FREQ=YEARLY;BYMONTH=11;BYDAY=1SU
TZNAME:CST
END:STANDARD
END:VTIMEZONE
BEGIN:VEVENT
UID:79a49df9-277a-492d-b4b5-6d8fb4f2c34b.220484@calendar.missouristate.edu
CREATED:20220322T161521Z
LAST-MODIFIED:20220322T161521Z
LOCATION:Plaster Student Union\, Robert W. 313
SUMMARY:English Week: Workplace Writing Faculty Workshop and Conference
DESCRIPTION:Keynote Speaker: Dr. Stephen Carradini\n\n\nDigital Ethics: Wh
 at Is and Can Be"\n\n\nThis faculty workshop will introduce several ways 
 to engage students with digital ethics related to professional work. Foll
 owing a brief explanation of digital ethics\, activities will include ide
 ntification and evaluation of ethics in a crisis situation\, and imaginat
 ive application of ethics to unresolved issues in professional digital ac
 tivity. Faculty will work in small groups as a demonstration of what one 
 might ask students to do in a classroom. 
X-ALT-DESC;FMTTYPE=text/html:&lt;html&gt;&lt;head&gt;&lt;title&gt;&lt;/title&gt;&lt;/head&gt;&lt;body&gt;&lt;p&gt;&lt;s
 pan&gt;Keynote Speaker: Dr. Stephen Carradini&lt;/span&gt;&lt;/p&gt;\n&lt;p&gt;Digital Ethics:
  What Is and&amp;nbsp\;Can Be"&lt;/p&gt;\n&lt;p&gt;This faculty workshop will introduce s
 everal ways to engage students with digital ethics related to professiona
 l work. Following a brief explanation of digital ethics\, activities will
  include identification and evaluation of ethics in a crisis situation\, 
 and imaginative application of ethics to unresolved issues in professiona
 l digital activity. Faculty will work in small groups as a demonstration 
 of what one might ask students to do in a classroom.&amp;nbsp\;&lt;/p&gt;\n&lt;p&gt;&lt;br&gt;&lt;
 br&gt;&lt;/p&gt;&lt;/body&gt;&lt;/html&gt;
DTSTART;TZID=America/Chicago:20220405T090000
DTEND;TZID=America/Chicago:20220405T150000
SEQUENCE:0
URL:https://english.missouristate.edu/english-week.htm
CATEGORIES:Faculty
END:VEVENT
END:VCALENDAR