BEGIN:VCALENDAR
VERSION:2.0
METHOD:PUBLISH
PRODID:-//Missouri State University/Calendar of Events//EN
CALSCALE:GREGORIAN
X-WR-TIMEZONE:America/Chicago
BEGIN:VTIMEZONE
TZID:America/Chicago
BEGIN:DAYLIGHT
TZOFFSETFROM:-0600
TZOFFSETTO:-0500
DTSTART:20070311T020000
RRULE:FREQ=YEARLY;BYMONTH=3;BYDAY=2SU
TZNAME:CDT
END:DAYLIGHT
BEGIN:STANDARD
TZOFFSETFROM:-0500
TZOFFSETTO:-0600
DTSTART:20071104T020000
RRULE:FREQ=YEARLY;BYMONTH=11;BYDAY=1SU
TZNAME:CST
END:STANDARD
END:VTIMEZONE
BEGIN:VEVENT
UID:ab046488-700f-4fd8-ab70-a8892e75e3ea.220486@calendar.missouristate.edu
CREATED:20220322T182332Z
LAST-MODIFIED:20220322T182332Z
LOCATION:
SUMMARY:PAMS Seminar: "Chasing Clean Energy and Environment Dream with Nan
 oscience" by Dr. Xiaobo Chen
DESCRIPTION:Dr. Xiaobo ChenDepartment of ChemistryUniversity of Missouri-K
 ansas City\n\n\nFull title:Chasing Clean Energy and Environment Dream wit
 h Nanoscience: Photocatalysis\, Rechargeable Battery\, Hydrogen Productio
 n &amp; Others – A Brief Summary of Our Past Research\n\n\nAbstract:In this p
 resentation\, Dr. Chen will introduce and overview his past research effo
 rts in the context of chasing the clean energy and environment dream with
  nanoscience and the graduate program at UMKC. That includes nanomaterial
 s developments\, photocatalytic hydrogen generation\, photocatalytic poll
 ution removal\, rechargeable lithium ion battery\, fuel cells\, hydrogen 
 storage\, photothermal vapor generation\, electrical hydrogen production\
 , self-cleaning superhydrophobic coating\, novel microwave absorbing mate
 rials\, etc.\n\n\nThis seminar will be via Zoom.
X-ALT-DESC;FMTTYPE=text/html:&lt;html&gt;&lt;head&gt;&lt;title&gt;&lt;/title&gt;&lt;/head&gt;&lt;body&gt;&lt;p&gt;&lt;b
 &gt;Dr. Xiaobo Chen&lt;/b&gt;&lt;br&gt;&lt;strong&gt;Department of&amp;nbsp\;Chemistry&lt;br&gt;&lt;/strong
 &gt;&lt;b&gt;University of&amp;nbsp\;Missouri-Kansas City&lt;/b&gt;&lt;/p&gt;\n&lt;p&gt;Full title:&lt;br&gt;C
 hasing Clean Energy and Environment Dream with Nanoscience: Photocatalysi
 s\, Rechargeable Battery\, Hydrogen Production &amp;amp\; Others – A Brief Su
 mmary of Our Past Research&lt;/p&gt;\n&lt;p&gt;Abstract:&lt;br&gt;In this presentation\, Dr
 . Chen will introduce and overview his past research efforts in the conte
 xt of chasing the clean energy and environment dream with nanoscience and
  the graduate program at UMKC. That includes nanomaterials developments\,
  photocatalytic hydrogen generation\, photocatalytic pollution removal\, 
 rechargeable lithium ion battery\, fuel cells\, hydrogen storage\, photot
 hermal vapor generation\, electrical hydrogen production\, self-cleaning 
 superhydrophobic coating\, novel microwave absorbing materials\, etc.&lt;/p&gt;
 \n&lt;p&gt;This seminar will be via Zoom.&lt;/p&gt;&lt;/body&gt;&lt;/html&gt;
DTSTART;TZID=America/Chicago:20220407T160000
DTEND;TZID=America/Chicago:20220407T170000
SEQUENCE:0
URL:https://physics.missouristate.edu/seminars.htm
CATEGORIES:Public,Alumni,Current Students,Faculty,Future Students,Staff
END:VEVENT
END:VCALENDAR