BEGIN:VCALENDAR
VERSION:2.0
METHOD:PUBLISH
PRODID:-//Missouri State University/Calendar of Events//EN
CALSCALE:GREGORIAN
X-WR-TIMEZONE:America/Chicago
BEGIN:VTIMEZONE
TZID:America/Chicago
BEGIN:DAYLIGHT
TZOFFSETFROM:-0600
TZOFFSETTO:-0500
DTSTART:20070311T020000
RRULE:FREQ=YEARLY;BYMONTH=3;BYDAY=2SU
TZNAME:CDT
END:DAYLIGHT
BEGIN:STANDARD
TZOFFSETFROM:-0500
TZOFFSETTO:-0600
DTSTART:20071104T020000
RRULE:FREQ=YEARLY;BYMONTH=11;BYDAY=1SU
TZNAME:CST
END:STANDARD
END:VTIMEZONE
BEGIN:VEVENT
UID:e38800c9-cc2c-48b8-a23d-b3b3241663d8.220488@calendar.missouristate.edu
CREATED:20220322T185808Z
LAST-MODIFIED:20220322T185808Z
LOCATION:
SUMMARY:Computer Science Seminar - Seth Malone
DESCRIPTION:Seth Malone will discuss the cloud in general when compared to
  traditional data centers. He will go over how cloud changes operations a
 nd development\, how companies are leveraging the cloud\, and how the clo
 ud has changed some of the traditional IT roles. \n\n\nNo previous cloud 
 knowledge will be needed. Will welcome all questions including the roles\
 , the career path\, AWS\, IBM\, etc.\n\n\nBio:\n\n\nSeth Malone graduated
  from Missouri State University with computer science degree in 2010. Aft
 er graduation he has worked in various departments of IBM for 10 years\, 
 most recently in IBM's Watson Health environment. Seth Malone currently w
 orks as a Solutions Architect in AWS where he helps enterprise level cust
 omers leverage the cloud through design\, education\, and discovery of ne
 w technologies.\n\n\n\n\n\nZoom link:\n\n\n\n\n\nhttps://missouristate.zo
 om.us/j/95972416721?pwd=bXZkbWJNTlE1S3JaNlVncEtyWktyZz09\n\n\nMeeting ID:
  959 7241 6721\n\n\n\n\n\nPasscode: 760297\n\n\nOne tap mobile\n\n\n+1312
 6266799\,\,95972416721# US (Chicago)\n\n\n+16468769923\,\,95972416721# US
  (New York)
X-ALT-DESC;FMTTYPE=text/html:&lt;html&gt;&lt;head&gt;&lt;title&gt;&lt;/title&gt;&lt;/head&gt;&lt;body&gt;&lt;p&gt;Se
 th Malone will discuss the cloud in general when compared to traditional 
 data centers. He will go over how cloud changes operations and developmen
 t\, how companies are leveraging the cloud\, and how the cloud has change
 d some of the traditional IT roles. &lt;/p&gt;\n&lt;p&gt;No previous cloud knowledge 
 will be needed. Will welcome all questions including the roles\, the care
 er path\, AWS\, IBM\, etc.&lt;/p&gt;\n&lt;p&gt;Bio:&lt;/p&gt;\n&lt;p&gt;Seth Malone graduated fro
 m Missouri State University with computer science degree in 2010. After g
 raduation he has worked in various departments of IBM for 10 years\, most
  recently in IBM's Watson Health environment. Seth Malone currently works
  as a Solutions Architect in AWS where he helps enterprise level customer
 s leverage the cloud through design\, education\, and discovery of new te
 chnologies.&lt;/p&gt;\n&lt;p&gt;&lt;/p&gt;\n&lt;p&gt;Zoom link:&lt;/p&gt;\n&lt;p&gt;&lt;/p&gt;\n&lt;p&gt;&lt;a href="https:/
 /missouristate.zoom.us/j/95972416721?pwd=bXZkbWJNTlE1S3JaNlVncEtyWktyZz09
 "&gt;https://missouristate.zoom.us/j/95972416721?pwd=bXZkbWJNTlE1S3JaNlVncEt
 yWktyZz09&lt;/a&gt;&lt;/p&gt;\n&lt;p&gt;Meeting ID: 959 7241 6721&lt;/p&gt;\n&lt;p&gt;&lt;/p&gt;\n&lt;p&gt;Passcode
 : 760297&lt;/p&gt;\n&lt;p&gt;One tap mobile&lt;/p&gt;\n&lt;p&gt;+13126266799\,\,95972416721# US (
 Chicago)&lt;/p&gt;\n&lt;p&gt;+16468769923\,\,95972416721# US (New York)&lt;/p&gt;&lt;/body&gt;&lt;/h
 tml&gt;
DTSTART;TZID=America/Chicago:20220408T122000
DTEND;TZID=America/Chicago:20220408T132000
SEQUENCE:0
URL:
CATEGORIES:Current Students,Faculty,Staff
END:VEVENT
END:VCALENDAR