BEGIN:VCALENDAR
VERSION:2.0
METHOD:PUBLISH
PRODID:-//Missouri State University/Calendar of Events//EN
CALSCALE:GREGORIAN
X-WR-TIMEZONE:America/Chicago
BEGIN:VTIMEZONE
TZID:America/Chicago
BEGIN:DAYLIGHT
TZOFFSETFROM:-0600
TZOFFSETTO:-0500
DTSTART:20070311T020000
RRULE:FREQ=YEARLY;BYMONTH=3;BYDAY=2SU
TZNAME:CDT
END:DAYLIGHT
BEGIN:STANDARD
TZOFFSETFROM:-0500
TZOFFSETTO:-0600
DTSTART:20071104T020000
RRULE:FREQ=YEARLY;BYMONTH=11;BYDAY=1SU
TZNAME:CST
END:STANDARD
END:VTIMEZONE
BEGIN:VEVENT
UID:d2a20a55-cb63-46ed-b57e-cee838ea2fd9.220489@calendar.missouristate.edu
CREATED:20220322T194526Z
LAST-MODIFIED:20220322T194526Z
LOCATION:Plaster Student Union\, Robert W. North Mall
SUMMARY:SAC Presents: Around the World
DESCRIPTION:Join SAC\, AIS\, ASA\, and student representatives to experien
 ce different cultures around the world! Free food from all over the globe
  and prize drawing!
X-ALT-DESC;FMTTYPE=text/html:&lt;html&gt;&lt;head&gt;&lt;title&gt;&lt;/title&gt;&lt;/head&gt;&lt;body&gt;&lt;p&gt;Jo
 in SAC\, AIS\, ASA\, and student representatives to experience different 
 cultures around the world! Free food from all over the globe and prize dr
 awing!&lt;/p&gt;&lt;/body&gt;&lt;/html&gt;
DTSTART;TZID=America/Chicago:20220401T110000
DTEND;TZID=America/Chicago:20220401T140000
SEQUENCE:0
URL:115771.jpg
CATEGORIES:Current Students,Faculty,Staff
END:VEVENT
END:VCALENDAR