BEGIN:VCALENDAR
VERSION:2.0
METHOD:PUBLISH
PRODID:-//Missouri State University/Calendar of Events//EN
CALSCALE:GREGORIAN
X-WR-TIMEZONE:America/Chicago
BEGIN:VTIMEZONE
TZID:America/Chicago
BEGIN:DAYLIGHT
TZOFFSETFROM:-0600
TZOFFSETTO:-0500
DTSTART:20070311T020000
RRULE:FREQ=YEARLY;BYMONTH=3;BYDAY=2SU
TZNAME:CDT
END:DAYLIGHT
BEGIN:STANDARD
TZOFFSETFROM:-0500
TZOFFSETTO:-0600
DTSTART:20071104T020000
RRULE:FREQ=YEARLY;BYMONTH=11;BYDAY=1SU
TZNAME:CST
END:STANDARD
END:VTIMEZONE
BEGIN:VEVENT
UID:5b58a6cf-7999-47d8-a96d-961ba3845a57.220491@calendar.missouristate.edu
CREATED:20220322T200930Z
LAST-MODIFIED:20220322T200930Z
LOCATION:Plaster Student Union\, Robert W. North Mall
SUMMARY:SAC Presents Show Me MO State Film: The Princess and the Frog
DESCRIPTION:Come watch the Disney's The Princess and the Frog starring MO 
 State's own John Goodman!\n\n\nFree muffins and fruit plus a prize giveaw
 ay!
X-ALT-DESC;FMTTYPE=text/html:&lt;html&gt;&lt;head&gt;&lt;title&gt;&lt;/title&gt;&lt;/head&gt;&lt;body&gt;&lt;p&gt;Co
 me watch the Disney's The Princess and the Frog starring MO State's own J
 ohn Goodman!&lt;/p&gt;\n&lt;p&gt;Free muffins and fruit plus a prize giveaway!&lt;/p&gt;&lt;/b
 ody&gt;&lt;/html&gt;
DTSTART;TZID=America/Chicago:20220422T200000
DTEND;TZID=America/Chicago:20220422T223000
SEQUENCE:0
URL:115773.jpg
CATEGORIES:Current Students,Faculty,Staff
END:VEVENT
END:VCALENDAR