BEGIN:VCALENDAR
VERSION:2.0
METHOD:PUBLISH
PRODID:-//Missouri State University/Calendar of Events//EN
CALSCALE:GREGORIAN
X-WR-TIMEZONE:America/Chicago
BEGIN:VTIMEZONE
TZID:America/Chicago
BEGIN:DAYLIGHT
TZOFFSETFROM:-0600
TZOFFSETTO:-0500
DTSTART:20070311T020000
RRULE:FREQ=YEARLY;BYMONTH=3;BYDAY=2SU
TZNAME:CDT
END:DAYLIGHT
BEGIN:STANDARD
TZOFFSETFROM:-0500
TZOFFSETTO:-0600
DTSTART:20071104T020000
RRULE:FREQ=YEARLY;BYMONTH=11;BYDAY=1SU
TZNAME:CST
END:STANDARD
END:VTIMEZONE
BEGIN:VEVENT
UID:3db3bc73-e40f-4354-8559-4edb443f1e57.220493@calendar.missouristate.edu
CREATED:20220323T135859Z
LAST-MODIFIED:20220323T135859Z
LOCATION:Glass Hall\, David D. 108
SUMMARY:English Week:  Workplace Writing Student Conference
DESCRIPTION:The conference features:\n\n\n1) Kimberly Goldstein - Director
  of Managing Editorial at Simon &amp; SchusterThere are many different career
  paths to take in the publishing industry and Goldstein will walk through
  the many steps it takes to turn an unedited manuscript into a printed bo
 ok.\n\n\n2) Dr. Stephen Carradini - Social Media and Podcast Workshop The
  emergence of podcasting and social media in professional spaces has give
 n technical communicators new avenues. \n\n\n3) Rob Blevins - Executive D
 irector at the Discovery Center of SpringfieldEyes from across the nation
  have been on Blevins recently due to the Discovery Center’s reception of
  the $1 million STOP award. 
X-ALT-DESC;FMTTYPE=text/html:&lt;html&gt;&lt;head&gt;&lt;title&gt;&lt;/title&gt;&lt;/head&gt;&lt;body&gt;&lt;p&gt;Th
 e conference features:&lt;/p&gt;\n&lt;p&gt;1) Kimberly Goldstein - Director of Managi
 ng Editorial at Simon &amp;amp\; Schuster&lt;br&gt;There are many different career 
 paths to take in the publishing industry and Goldstein will walk through 
 the many steps it takes to turn an unedited manuscript into a printed boo
 k.&lt;/p&gt;\n&lt;p&gt;2) Dr. Stephen Carradini - Social Media and Podcast Workshop &lt;
 br&gt;The emergence of podcasting and social media in professional spaces ha
 s given technical communicators new avenues.&amp;nbsp\;&lt;/p&gt;\n&lt;p&gt;3) Rob Blevin
 s - Executive Director at the Discovery Center of Springfield&lt;br&gt;Eyes fro
 m across the nation have been on Blevins recently due to the Discovery Ce
 nter’s reception of the $1 million STOP award.&amp;nbsp\;&lt;/p&gt;&lt;/body&gt;&lt;/html&gt;
DTSTART;TZID=America/Chicago:20220406T083000
DTEND;TZID=America/Chicago:20220406T151500
SEQUENCE:0
URL:https://english.missouristate.edu/schedule.htm
CATEGORIES:Current Students,Future Students
END:VEVENT
END:VCALENDAR