BEGIN:VCALENDAR
VERSION:2.0
METHOD:PUBLISH
PRODID:-//Missouri State University/Calendar of Events//EN
CALSCALE:GREGORIAN
X-WR-TIMEZONE:America/Chicago
BEGIN:VTIMEZONE
TZID:America/Chicago
BEGIN:DAYLIGHT
TZOFFSETFROM:-0600
TZOFFSETTO:-0500
DTSTART:20070311T020000
RRULE:FREQ=YEARLY;BYMONTH=3;BYDAY=2SU
TZNAME:CDT
END:DAYLIGHT
BEGIN:STANDARD
TZOFFSETFROM:-0500
TZOFFSETTO:-0600
DTSTART:20071104T020000
RRULE:FREQ=YEARLY;BYMONTH=11;BYDAY=1SU
TZNAME:CST
END:STANDARD
END:VTIMEZONE
BEGIN:VEVENT
UID:04137959-f8da-455f-896b-9e24829a879f.220496@calendar.missouristate.edu
CREATED:20220323T221242Z
LAST-MODIFIED:20220323T221242Z
LOCATION:Plaster Student Union\, Robert W.
SUMMARY:Fall Showcase
DESCRIPTION:Join us for our showcase open house and explore all that Misso
 uri State has to offer — perfect for prospective students and their famil
 ies.\n\n\nDuring showcase\, you're invited to:\n\n\n\nMeet the faculty wh
 o represent more than 170 academic majors and programs.\nLearn about the 
 admission process\, financial aid and scholarships.\nSee yourself at Miss
 ouri State by taking a campus tour.\nGet the Missouri State story as can 
 only be told by our students.
X-ALT-DESC;FMTTYPE=text/html:&lt;html&gt;&lt;head&gt;&lt;title&gt;&lt;/title&gt;&lt;/head&gt;&lt;body&gt;&lt;p&gt;Jo
 in us for our showcase open house and explore all that Missouri State has
  to offer — perfect for prospective students and their families.&lt;/p&gt;\n&lt;p&gt;
 During showcase\, you're invited to:&lt;/p&gt;\n&lt;ul&gt;\n&lt;li&gt;Meet the faculty who 
 represent more than 170 academic majors and programs.&lt;/li&gt;\n&lt;li&gt;Learn abo
 ut the admission process\, financial aid and scholarships.&lt;/li&gt;\n&lt;li&gt;See 
 yourself at Missouri State by taking a campus tour.&lt;/li&gt;\n&lt;li&gt;Get the Mis
 souri State story as can only be told by our students.&lt;/li&gt;\n&lt;/ul&gt;\n&lt;p&gt;&lt;/
 p&gt;&lt;/body&gt;&lt;/html&gt;
DTSTART;TZID=America/Chicago:20221112T090000
DTEND;TZID=America/Chicago:20221112T150000
SEQUENCE:0
URL:http://missouristate.edu/showcase
CATEGORIES:Public,Future Students
END:VEVENT
END:VCALENDAR