BEGIN:VCALENDAR
VERSION:2.0
METHOD:PUBLISH
PRODID:-//Missouri State University/Calendar of Events//EN
CALSCALE:GREGORIAN
X-WR-TIMEZONE:America/Chicago
BEGIN:VTIMEZONE
TZID:America/Chicago
BEGIN:DAYLIGHT
TZOFFSETFROM:-0600
TZOFFSETTO:-0500
DTSTART:20070311T020000
RRULE:FREQ=YEARLY;BYMONTH=3;BYDAY=2SU
TZNAME:CDT
END:DAYLIGHT
BEGIN:STANDARD
TZOFFSETFROM:-0500
TZOFFSETTO:-0600
DTSTART:20071104T020000
RRULE:FREQ=YEARLY;BYMONTH=11;BYDAY=1SU
TZNAME:CST
END:STANDARD
END:VTIMEZONE
BEGIN:VEVENT
UID:3334548e-227f-4117-971b-858b1df13c1d.220497@calendar.missouristate.edu
CREATED:20220323T221034Z
LAST-MODIFIED:20220323T221034Z
LOCATION:Plaster Student Union\, Robert W.
SUMMARY:Summer Visit Day
DESCRIPTION:Kick your college search process into high gear!\n\n\nJoin us 
 for a unique summer visit experience.\n\n\n\nTour Missouri State’s campus
 .\nLearn about cost and financial aid options.\nHear from a panel of curr
 ent students.\nParticipate in exciting academic experiences.\nSee where y
 ou’ll be living.
X-ALT-DESC;FMTTYPE=text/html:&lt;html&gt;&lt;head&gt;&lt;title&gt;&lt;/title&gt;&lt;/head&gt;&lt;body&gt;&lt;p&gt;&lt;s
 trong&gt;Kick your college search process into high gear!&lt;/strong&gt;&lt;/p&gt;\n&lt;p&gt;J
 oin us for a unique summer visit experience.&lt;/p&gt;\n&lt;ul&gt;\n&lt;li&gt;Tour Missouri
  State’s campus.&lt;/li&gt;\n&lt;li&gt;Learn about cost and financial aid options.&lt;/l
 i&gt;\n&lt;li&gt;Hear from a panel of current students.&lt;/li&gt;\n&lt;li&gt;Participate in e
 xciting academic experiences.&lt;/li&gt;\n&lt;li&gt;See where you’ll be living.&lt;/li&gt;\
 n&lt;/ul&gt;&lt;/body&gt;&lt;/html&gt;
DTSTART;TZID=America/Chicago:20220624T090000
DTEND;TZID=America/Chicago:20220624T143000
SEQUENCE:0
URL:http://missouristate.edu/summervisitday
CATEGORIES:Public,Future Students
END:VEVENT
END:VCALENDAR