BEGIN:VCALENDAR
VERSION:2.0
METHOD:PUBLISH
PRODID:-//Missouri State University/Calendar of Events//EN
CALSCALE:GREGORIAN
X-WR-TIMEZONE:America/Chicago
BEGIN:VTIMEZONE
TZID:America/Chicago
BEGIN:DAYLIGHT
TZOFFSETFROM:-0600
TZOFFSETTO:-0500
DTSTART:20070311T020000
RRULE:FREQ=YEARLY;BYMONTH=3;BYDAY=2SU
TZNAME:CDT
END:DAYLIGHT
BEGIN:STANDARD
TZOFFSETFROM:-0500
TZOFFSETTO:-0600
DTSTART:20071104T020000
RRULE:FREQ=YEARLY;BYMONTH=11;BYDAY=1SU
TZNAME:CST
END:STANDARD
END:VTIMEZONE
BEGIN:VEVENT
UID:9b0ebcf1-6910-4519-ae2c-e87df8d00649.220500@calendar.missouristate.edu
CREATED:20220323T203759Z
LAST-MODIFIED:20220323T203759Z
LOCATION:Plaster Student Union\, Robert W. Ballroom
SUMMARY:CNAS Undergraduate Research Symposium
DESCRIPTION:All current CNAS undergraduate students and December 2021 grad
 uates are invited to submit a poster for the CNAS Undergraduate Research 
 Symposium.\n\n\nPresentations will be refereed\, and awards will be given
  for first place ($100) and second place ($50) for each CNAS department a
 nd the cooperative engineering program.\n\n\nAwards ceremony will begin a
 t 2 p.m. in the PSU Ballroom East with guest speaker\, Dr. Razib Iqbal\, 
 associate professor\, computer science.\n\n\nContact your advisor for abs
 tract submission instructions information or view it online. 
X-ALT-DESC;FMTTYPE=text/html:&lt;html&gt;&lt;head&gt;&lt;title&gt;&lt;/title&gt;&lt;/head&gt;&lt;body&gt;&lt;p&gt;Al
 l current CNAS undergraduate students and December 2021 graduates are inv
 ited to submit a poster for the CNAS Undergraduate Research Symposium.&lt;/p
 &gt;\n&lt;p&gt;Presentations will be refereed\, and awards will be given for &lt;stro
 ng&gt;first place ($100) and second place ($50)&lt;/strong&gt; for each CNAS depar
 tment and the cooperative engineering program.&lt;/p&gt;\n&lt;p&gt;Awards ceremony wi
 ll begin at&amp;nbsp\;2 p.m. in the PSU Ballroom East&amp;nbsp\;with guest speake
 r\, Dr. Razib Iqbal\, associate professor\, computer science.&lt;/p&gt;\n&lt;p&gt;Con
 tact your advisor for abstract submission instructions information or &lt;a 
 href="https://science.missouristate.edu/Undergraduate-Research-Day.htm"&gt;v
 iew it online&lt;/a&gt;.&amp;nbsp\;&lt;/p&gt;&lt;/body&gt;&lt;/html&gt;
DTSTART;TZID=America/Chicago:20220505T130000
DTEND;TZID=America/Chicago:20220505T150000
SEQUENCE:1
URL:https://science.missouristate.edu/Undergraduate-Research-Day.htm
CATEGORIES:Public,Alumni,Current Students,Faculty,Future Students,Staff
END:VEVENT
END:VCALENDAR