BEGIN:VCALENDAR
VERSION:2.0
METHOD:PUBLISH
PRODID:-//Missouri State University/Calendar of Events//EN
CALSCALE:GREGORIAN
X-WR-TIMEZONE:America/Chicago
BEGIN:VTIMEZONE
TZID:America/Chicago
BEGIN:DAYLIGHT
TZOFFSETFROM:-0600
TZOFFSETTO:-0500
DTSTART:20070311T020000
RRULE:FREQ=YEARLY;BYMONTH=3;BYDAY=2SU
TZNAME:CDT
END:DAYLIGHT
BEGIN:STANDARD
TZOFFSETFROM:-0500
TZOFFSETTO:-0600
DTSTART:20071104T020000
RRULE:FREQ=YEARLY;BYMONTH=11;BYDAY=1SU
TZNAME:CST
END:STANDARD
END:VTIMEZONE
BEGIN:VEVENT
UID:8afe7a93-a8df-4909-9952-6d8d433ea1ce.220502@calendar.missouristate.edu
CREATED:20220328T224102Z
LAST-MODIFIED:20220328T224102Z
LOCATION:Ellis Hall / C. Minor Recital Hall
SUMMARY:Double Opera Bill of Gilbert and Sullivan’s "Trial by Jury" and Mo
 zart’s "Cosi fan tutte"
DESCRIPTION:Come join MSU Opera Theatre as we present a performance of two
  silly operas about love\, fidelity and the games lovers play. There will
  be a 15-minute intermission between the two operas.\n\n\n"Trial by Jury"
  is a little Judge Judy and a bit Bachelorette and in "Cosi fan tutte" we
  have cut and updated Mozart to take place on the MSU campus. Dialogue is
  in English and the singing in Italian (with supertitles).
X-ALT-DESC;FMTTYPE=text/html:&lt;html&gt;&lt;head&gt;&lt;title&gt;&lt;/title&gt;&lt;/head&gt;&lt;body&gt;&lt;p&gt;Co
 me join MSU Opera Theatre as we present a performance of two silly operas
  about love\, fidelity and the games lovers play. There will be a 15-minu
 te intermission between the two operas.&lt;/p&gt;\n&lt;p&gt;"Trial by Jury" is a litt
 le Judge Judy and a bit Bachelorette and in "Cosi fan tutte" we have cut 
 and updated Mozart to take place on the MSU campus. Dialogue is in Englis
 h and the singing in Italian (with supertitles).&lt;/p&gt;&lt;/body&gt;&lt;/html&gt;
DTSTART;TZID=America/Chicago:20220408T193000
DTEND;TZID=America/Chicago:20220408T210000
SEQUENCE:0
URL:https://missouristate.edu/opera
CATEGORIES:Public,Alumni,Current Students,Faculty,Future Students,Staff
END:VEVENT
END:VCALENDAR