BEGIN:VCALENDAR
VERSION:2.0
METHOD:PUBLISH
PRODID:-//Missouri State University/Calendar of Events//EN
CALSCALE:GREGORIAN
X-WR-TIMEZONE:America/Chicago
BEGIN:VTIMEZONE
TZID:America/Chicago
BEGIN:DAYLIGHT
TZOFFSETFROM:-0600
TZOFFSETTO:-0500
DTSTART:20070311T020000
RRULE:FREQ=YEARLY;BYMONTH=3;BYDAY=2SU
TZNAME:CDT
END:DAYLIGHT
BEGIN:STANDARD
TZOFFSETFROM:-0500
TZOFFSETTO:-0600
DTSTART:20071104T020000
RRULE:FREQ=YEARLY;BYMONTH=11;BYDAY=1SU
TZNAME:CST
END:STANDARD
END:VTIMEZONE
BEGIN:VEVENT
UID:fd5100e0-4ceb-48fb-87a2-fa63dee9466a.220519@calendar.missouristate.edu
CREATED:20220324T145821Z
LAST-MODIFIED:20220324T145821Z
LOCATION:Plaster Student Union\, Robert W. 313
SUMMARY:MSU English Alumni Panel and Reception
DESCRIPTION:The English Department’s Alumni Panel and Reception will be he
 ld Thursday\, April 7th\, at 4:30 p.m. in the Plaster Student Union Room 
 313!\n\n\nFeatured alumni will include Beth Fiset\, Ryan LaBee\, Taylor P
 arks Reaves\, Sarah Sandidge\, Maggie Morris-Owens\, Christian Middleton\
 , and Rob Blevins. Additional students\, alumni\, and faculty will be pre
 sent to answer any questions and talk with students about major and minor
  programs\, certificates\, student organizations\, study abroad\, interns
 hips\, and graduate programs and graduate assistantship opportunities.
X-ALT-DESC;FMTTYPE=text/html:&lt;html&gt;&lt;head&gt;&lt;title&gt;&lt;/title&gt;&lt;/head&gt;&lt;body&gt;&lt;p&gt;Th
 e English Department’s Alumni Panel and Reception will be held Thursday\,
  April 7th\, at 4:30 p.m. in the Plaster Student Union Room 313!&lt;/p&gt;\n&lt;p&gt;
 &lt;span&gt;Featured alumni will include Beth Fiset\, Ryan LaBee\, Taylor Parks
  Reaves\, Sarah Sandidge\, Maggie Morris-Owens\, Christian Middleton\, an
 d Rob Blevins. Additional students\, alumni\, and faculty will be present
  to answer any questions and talk with students about major and minor pro
 grams\, certificates\, student organizations\, study abroad\, internships
 \, and graduate programs and graduate assistantship opportunities.&lt;/span&gt;
 &lt;/p&gt;\n&lt;p&gt;&lt;span&gt;&lt;/span&gt;&lt;/p&gt;&lt;/body&gt;&lt;/html&gt;
DTSTART;TZID=America/Chicago:20220407T163000
DTEND;TZID=America/Chicago:20220407T183000
SEQUENCE:0
URL:https://english.missouristate.edu/schedule.htm
CATEGORIES:Alumni,Current Students,Faculty,Future Students
END:VEVENT
END:VCALENDAR