BEGIN:VCALENDAR
VERSION:2.0
METHOD:PUBLISH
PRODID:-//Missouri State University/Calendar of Events//EN
CALSCALE:GREGORIAN
X-WR-TIMEZONE:America/Chicago
BEGIN:VTIMEZONE
TZID:America/Chicago
BEGIN:DAYLIGHT
TZOFFSETFROM:-0600
TZOFFSETTO:-0500
DTSTART:20070311T020000
RRULE:FREQ=YEARLY;BYMONTH=3;BYDAY=2SU
TZNAME:CDT
END:DAYLIGHT
BEGIN:STANDARD
TZOFFSETFROM:-0500
TZOFFSETTO:-0600
DTSTART:20071104T020000
RRULE:FREQ=YEARLY;BYMONTH=11;BYDAY=1SU
TZNAME:CST
END:STANDARD
END:VTIMEZONE
BEGIN:VEVENT
UID:111a45c2-ad42-4cbe-b5a3-c615417ac76e.220520@calendar.missouristate.edu
CREATED:20220324T153121Z
LAST-MODIFIED:20220324T153121Z
LOCATION:Cheek Hall 102
SUMMARY:English Week:  MOWrite at MOState
DESCRIPTION:Join graphic novelists and MSU faculty members\, Jennifer Murv
 in and Cole Closser\, in a free workshop on the art and craft of graphic 
 narrative! This workshop will engage writers in exploring both the art an
 d writing of graphic narrative texts\, ranging from the comic book to the
  graphic novel. Registered participants will be provided materials for th
 e workshop\, but anyone is encouraged to bring supplies as they wish.\n\n
 \nRegistration form available on English Week website page:https://englis
 h.missouristate.edu/mowrite-at-mostate.htm
X-ALT-DESC;FMTTYPE=text/html:&lt;html&gt;&lt;head&gt;&lt;title&gt;&lt;/title&gt;&lt;/head&gt;&lt;body&gt;&lt;p&gt;Jo
 in graphic novelists and MSU faculty members\, Jennifer Murvin and Cole C
 losser\, in a free workshop on the art and craft of graphic narrative! Th
 is workshop will engage writers in exploring both the art and writing of 
 graphic narrative texts\, ranging from the comic book to the graphic nove
 l. Registered participants will be provided materials for the workshop\, 
 but anyone is encouraged to bring supplies as they wish.&lt;/p&gt;\n&lt;p&gt;Registra
 tion form available on English Week website page:&lt;br&gt;&lt;br&gt;https://english.
 missouristate.edu/mowrite-at-mostate.htm&lt;/p&gt;\n&lt;p&gt;&lt;/p&gt;\n&lt;p&gt;&lt;/p&gt;\n&lt;p&gt;&lt;/p&gt;&lt;/
 body&gt;&lt;/html&gt;
DTSTART;TZID=America/Chicago:20220408T090000
DTEND;TZID=America/Chicago:20220408T110000
SEQUENCE:0
URL:https://english.missouristate.edu/mowrite-at-mostate.htm
CATEGORIES:Current Students
END:VEVENT
END:VCALENDAR