BEGIN:VCALENDAR
VERSION:2.0
METHOD:PUBLISH
PRODID:-//Missouri State University/Calendar of Events//EN
CALSCALE:GREGORIAN
X-WR-TIMEZONE:America/Chicago
BEGIN:VTIMEZONE
TZID:America/Chicago
BEGIN:DAYLIGHT
TZOFFSETFROM:-0600
TZOFFSETTO:-0500
DTSTART:20070311T020000
RRULE:FREQ=YEARLY;BYMONTH=3;BYDAY=2SU
TZNAME:CDT
END:DAYLIGHT
BEGIN:STANDARD
TZOFFSETFROM:-0500
TZOFFSETTO:-0600
DTSTART:20071104T020000
RRULE:FREQ=YEARLY;BYMONTH=11;BYDAY=1SU
TZNAME:CST
END:STANDARD
END:VTIMEZONE
BEGIN:VEVENT
UID:7be96f5b-b5ea-42c2-9d7e-c6c4ff56abc6.220521@calendar.missouristate.edu
CREATED:20220324T153400Z
LAST-MODIFIED:20220324T153400Z
LOCATION:Davis-Harrington Welcome Center Lobby
SUMMARY:English Week: Spring 2022 Student Invitational
DESCRIPTION:Join the MSU Dept of English and Moon City Press for an evenin
 g of student's work.   \n\n\nThe following students will be presenting th
 eir work: \n\n\nNicole Brunette\, poetryAurry Cannon\, graphic narrativeL
 iam Cole\, fictionAbigail Jensen\, poetryMarianne Prax\, fictionKelsey Wi
 lliams\, fictionDonna Canan\, creative nonfiction
X-ALT-DESC;FMTTYPE=text/html:&lt;html&gt;&lt;head&gt;&lt;title&gt;&lt;/title&gt;&lt;/head&gt;&lt;body&gt;&lt;p&gt;Jo
 in the MSU Dept of English and Moon City Press for an evening of student'
 s work.&amp;nbsp\; &amp;nbsp\;&lt;/p&gt;\n&lt;p&gt;The following students will be presenting 
 their work:&amp;nbsp\;&lt;/p&gt;\n&lt;p&gt;Nicole Brunette\, poetry&lt;br&gt;Aurry Cannon\, gra
 phic narrative&lt;br&gt;Liam Cole\, fiction&lt;br&gt;Abigail Jensen\, poetry&lt;br&gt;Maria
 nne Prax\, fiction&lt;br&gt;Kelsey Williams\, fiction&lt;br&gt;Donna Canan\, creative
  nonfiction&lt;/p&gt;&lt;/body&gt;&lt;/html&gt;
DTSTART;TZID=America/Chicago:20220408T190000
DTEND;TZID=America/Chicago:20220408T203000
SEQUENCE:0
URL:https://english.missouristate.edu/schedule.htm
CATEGORIES:Public,Alumni,Current Students,Faculty,Future Students,Staff
END:VEVENT
END:VCALENDAR