BEGIN:VCALENDAR
VERSION:2.0
METHOD:PUBLISH
PRODID:-//Missouri State University/Calendar of Events//EN
CALSCALE:GREGORIAN
X-WR-TIMEZONE:America/Chicago
BEGIN:VTIMEZONE
TZID:America/Chicago
BEGIN:DAYLIGHT
TZOFFSETFROM:-0600
TZOFFSETTO:-0500
DTSTART:20070311T020000
RRULE:FREQ=YEARLY;BYMONTH=3;BYDAY=2SU
TZNAME:CDT
END:DAYLIGHT
BEGIN:STANDARD
TZOFFSETFROM:-0500
TZOFFSETTO:-0600
DTSTART:20071104T020000
RRULE:FREQ=YEARLY;BYMONTH=11;BYDAY=1SU
TZNAME:CST
END:STANDARD
END:VTIMEZONE
BEGIN:VEVENT
UID:e483d5ca-22c5-4720-afda-c05e891de0ca.220522@calendar.missouristate.edu
CREATED:20220331T211859Z
LAST-MODIFIED:20220331T211859Z
LOCATION:635 E. Trafficway\, Springfield\, MO 65802
SUMMARY:Bears Fund Season Ticket Holder Appreciation Party 
DESCRIPTION:Join The Bears Fund for food and fun as we show our appreciati
 on for your support of Missouri State Athletics!\n\n\nWe will serve food\
 , ice cream and soft drinks. Stick around after the event to claim your f
 ree tickets to watch the Bears take on Mizzou at 6:30 p.m.\n\n\nSpecial t
 hank you to HyVee\, Hiland Dairy and Ozarks Coca Cola for sponsoring this
  great event. 
X-ALT-DESC;FMTTYPE=text/html:&lt;html&gt;&lt;head&gt;&lt;title&gt;&lt;/title&gt;&lt;/head&gt;&lt;body&gt;&lt;p&gt;Jo
 in The Bears Fund for food and fun as we show our appreciation for your s
 upport of Missouri State Athletics!&lt;/p&gt;\n&lt;p&gt;We will serve food\, ice crea
 m and soft drinks. Stick around after the event to claim your free ticket
 s to watch the Bears take on Mizzou at&amp;nbsp\;6:30 p.m.&lt;/p&gt;\n&lt;p&gt;Special th
 ank you to HyVee\, Hiland Dairy and Ozarks Coca Cola for sponsoring this 
 great event.&amp;nbsp\;&lt;/p&gt;&lt;/body&gt;&lt;/html&gt;
DTSTART;TZID=America/Chicago:20220426T160000
DTEND;TZID=America/Chicago:20220426T173000
SEQUENCE:1
URL:https://missouristatebears.com/sports/2016/7/21/tickets-mosu-tickets-b
 asebl-html.aspx
CATEGORIES:Public
END:VEVENT
END:VCALENDAR