BEGIN:VCALENDAR
VERSION:2.0
METHOD:PUBLISH
PRODID:-//Missouri State University/Calendar of Events//EN
CALSCALE:GREGORIAN
X-WR-TIMEZONE:America/Chicago
BEGIN:VTIMEZONE
TZID:America/Chicago
BEGIN:DAYLIGHT
TZOFFSETFROM:-0600
TZOFFSETTO:-0500
DTSTART:20070311T020000
RRULE:FREQ=YEARLY;BYMONTH=3;BYDAY=2SU
TZNAME:CDT
END:DAYLIGHT
BEGIN:STANDARD
TZOFFSETFROM:-0500
TZOFFSETTO:-0600
DTSTART:20071104T020000
RRULE:FREQ=YEARLY;BYMONTH=11;BYDAY=1SU
TZNAME:CST
END:STANDARD
END:VTIMEZONE
BEGIN:VEVENT
UID:00000000-0000-0000-0000-000000000000.220523@calendar.missouristate.edu
CREATED:20220329T184342Z
LAST-MODIFIED:20220329T184342Z
LOCATION:Plaster Student Union\, Robert W.
SUMMARY:Meet the Author: Nancy Allen
DESCRIPTION:Spend an evening with New York Times Best Selling Author Nancy
  Allen. Event will include a presentation about Nancy and her work\, a re
 ading from her new book\, Renegade\, Q&amp;A session and book signing. 
X-ALT-DESC;FMTTYPE=text/html:&lt;html&gt;&lt;head&gt;&lt;title&gt;&lt;/title&gt;&lt;/head&gt;&lt;body&gt;&lt;p&gt;Sp
 end an evening with New York Times Best Selling Author Nancy Allen. Event
  will include a presentation about Nancy and her work\, a reading from he
 r new book\, &lt;em&gt;Renegade&lt;/em&gt;\, Q&amp;amp\;A session and book signing.&amp;nbsp\
 ;&lt;br&gt;\n&lt;br&gt;\n&lt;/p&gt;&lt;/body&gt;&lt;/html&gt;
DTSTART;TZID=America/Chicago:20220331T190000
DTEND;TZID=America/Chicago:20220331T203000
SEQUENCE:1
URL:https://missouristate.imodules.com?sid=1691&amp;gid=2&amp;pgid=2773&amp;cid=4950&amp;e
 cid=4950&amp;ciid=16033&amp;crid=0
CATEGORIES:Public,Alumni,Parents and Family,Visitors
END:VEVENT
END:VCALENDAR