BEGIN:VCALENDAR
VERSION:2.0
METHOD:PUBLISH
PRODID:-//Missouri State University/Calendar of Events//EN
CALSCALE:GREGORIAN
X-WR-TIMEZONE:America/Chicago
BEGIN:VTIMEZONE
TZID:America/Chicago
BEGIN:DAYLIGHT
TZOFFSETFROM:-0600
TZOFFSETTO:-0500
DTSTART:20070311T020000
RRULE:FREQ=YEARLY;BYMONTH=3;BYDAY=2SU
TZNAME:CDT
END:DAYLIGHT
BEGIN:STANDARD
TZOFFSETFROM:-0500
TZOFFSETTO:-0600
DTSTART:20071104T020000
RRULE:FREQ=YEARLY;BYMONTH=11;BYDAY=1SU
TZNAME:CST
END:STANDARD
END:VTIMEZONE
BEGIN:VEVENT
UID:74e1cdbb-79a6-4a51-bf3b-1ef86682eecd.220526@calendar.missouristate.edu
CREATED:20220328T161709Z
LAST-MODIFIED:20220328T161709Z
LOCATION:Plaster Student Union\, Robert W. 312
SUMMARY:Tough Talks for tough times
DESCRIPTION:There is a lot going on\, and the world is changing right befo
 re us. It is stressful and frightening. Join us in this upcoming Tough Ta
 lks session to share and discuss your thoughts.
X-ALT-DESC;FMTTYPE=text/html:&lt;html&gt;&lt;head&gt;&lt;title&gt;&lt;/title&gt;&lt;/head&gt;&lt;body&gt;&lt;p&gt;Th
 ere is a lot going on\, and the world is changing right before us. It is 
 stressful and frightening. Join us in this upcoming Tough Talks session t
 o share and discuss your thoughts.&lt;/p&gt;&lt;/body&gt;&lt;/html&gt;
DTSTART;TZID=America/Chicago:20220330T130000
DTEND;TZID=America/Chicago:20220330T140000
SEQUENCE:0
URL:115805.png
CATEGORIES:Public,Current Students,Faculty,Staff
END:VEVENT
END:VCALENDAR