BEGIN:VCALENDAR
VERSION:2.0
METHOD:PUBLISH
PRODID:-//Missouri State University/Calendar of Events//EN
CALSCALE:GREGORIAN
X-WR-TIMEZONE:America/Chicago
BEGIN:VTIMEZONE
TZID:America/Chicago
BEGIN:DAYLIGHT
TZOFFSETFROM:-0600
TZOFFSETTO:-0500
DTSTART:20070311T020000
RRULE:FREQ=YEARLY;BYMONTH=3;BYDAY=2SU
TZNAME:CDT
END:DAYLIGHT
BEGIN:STANDARD
TZOFFSETFROM:-0500
TZOFFSETTO:-0600
DTSTART:20071104T020000
RRULE:FREQ=YEARLY;BYMONTH=11;BYDAY=1SU
TZNAME:CST
END:STANDARD
END:VTIMEZONE
BEGIN:VEVENT
UID:38e4ac75-9bb8-4228-bb31-95662732da54.220528@calendar.missouristate.edu
CREATED:20220329T144720Z
LAST-MODIFIED:20220329T144720Z
LOCATION:
SUMMARY:Computer Science Seminar - Tianqi Huang
DESCRIPTION:Tianqi Huang will discuss the high-level rendering technology 
 for Kindle. He will go over how the text and imaging display by rending o
 n Kindle\, how Kindle Reader works\, and what is different from 2D render
 ing to 3D rendering. Tianqi will welcome all questions including the role
 s\, the career path\, Amazon\, Microsoft etc.\n\n\nBio:\n\n\nTianqi Huang
  graduated from Missouri State University with a computer science bachelo
 r's degree in 2016 and from Southern Methodist University with a computer
  science master's degree in 2019.\n\n\nAfter graduation\, he worked with 
 the Amazon Kindle rendering team for 1.5 years to help develop and mainta
 in the rendering engine for the Kindle app and eReader.\n\n\n\n\n\nHe cur
 rently works with the Microsoft Azure commercial purchasing team to help 
 develop and maintain the purchasing pipeline for enterprise-level on clou
 d products.\n\n\nJoin Zoom Meeting\n\n\nhttps://missouristate.zoom.us/j/9
 7854585224?pwd=NjNBWkdoRTRKWlJIOTZYd3RyZHdRUT09\n\n\nMeeting ID: 978 5458
  5224\n\n\n\n\n\nPasscode: 827221\n\n\nOne tap mobile\n\n\n+16468769923\,
 \,97854585224# US (New York)\n\n\n+16699006833\,\,97854585224# US (San Jo
 se)
X-ALT-DESC;FMTTYPE=text/html:&lt;html&gt;&lt;head&gt;&lt;title&gt;&lt;/title&gt;&lt;/head&gt;&lt;body&gt;&lt;p&gt;Ti
 anqi Huang will discuss the high-level rendering technology for Kindle. H
 e will go over how the text and imaging display by rending on Kindle\, ho
 w Kindle Reader works\, and what is different&amp;nbsp\;from 2D rendering to 
 3D rendering. Tianqi will welcome all questions including the roles\, the
  career path\, Amazon\, Microsoft etc.&lt;/p&gt;\n&lt;p&gt;Bio:&lt;/p&gt;\n&lt;p&gt;Tianqi Huang 
 graduated from Missouri State University with a computer science bachelor
 's degree in 2016 and from Southern Methodist University with a computer 
 science master's degree in 2019.&lt;/p&gt;\n&lt;p&gt;After graduation\, he worked wit
 h the Amazon Kindle rendering team for 1.5 years to help develop and main
 tain&amp;nbsp\;the rendering engine for the Kindle app and eReader.&lt;/p&gt;\n&lt;p&gt;&lt;
 /p&gt;\n&lt;p&gt;He currently works with the Microsoft Azure commercial purchasing
  team to help develop and maintain the purchasing pipeline for enterprise
 -level&amp;nbsp\;on cloud products.&lt;/p&gt;\n&lt;p&gt;Join Zoom Meeting&lt;/p&gt;\n&lt;p&gt;&lt;a href
 ="https://missouristate.zoom.us/j/97854585224?pwd=NjNBWkdoRTRKWlJIOTZYd3R
 yZHdRUT09"&gt;https://missouristate.zoom.us/j/97854585224?pwd=NjNBWkdoRTRKWl
 JIOTZYd3RyZHdRUT09&lt;/a&gt;&lt;/p&gt;\n&lt;p&gt;Meeting ID: 978 5458 5224&lt;/p&gt;\n&lt;p&gt;&lt;/p&gt;\n&lt;p
 &gt;Passcode: 827221&lt;/p&gt;\n&lt;p&gt;One tap mobile&lt;/p&gt;\n&lt;p&gt;+16468769923\,\,97854585
 224# US (New York)&lt;/p&gt;\n&lt;p&gt;+16699006833\,\,97854585224# US (San Jose)&lt;/p&gt;
 \n&lt;p&gt;&lt;/p&gt;\n&lt;p&gt;&lt;/p&gt;\n&lt;p&gt;&lt;/p&gt;&lt;/body&gt;&lt;/html&gt;
DTSTART;TZID=America/Chicago:20220422T122000
DTEND;TZID=America/Chicago:20220422T132000
SEQUENCE:0
URL:
CATEGORIES:Current Students,Faculty,Staff
END:VEVENT
END:VCALENDAR