BEGIN:VCALENDAR
VERSION:2.0
METHOD:PUBLISH
PRODID:-//Missouri State University/Calendar of Events//EN
CALSCALE:GREGORIAN
X-WR-TIMEZONE:America/Chicago
BEGIN:VTIMEZONE
TZID:America/Chicago
BEGIN:DAYLIGHT
TZOFFSETFROM:-0600
TZOFFSETTO:-0500
DTSTART:20070311T020000
RRULE:FREQ=YEARLY;BYMONTH=3;BYDAY=2SU
TZNAME:CDT
END:DAYLIGHT
BEGIN:STANDARD
TZOFFSETFROM:-0500
TZOFFSETTO:-0600
DTSTART:20071104T020000
RRULE:FREQ=YEARLY;BYMONTH=11;BYDAY=1SU
TZNAME:CST
END:STANDARD
END:VTIMEZONE
BEGIN:VEVENT
UID:e51e12df-65e9-48a2-93f3-b7acb5191cfc.220532@calendar.missouristate.edu
CREATED:20220330T145105Z
LAST-MODIFIED:20220330T145105Z
LOCATION:Hammons Student Center\, John Q.
SUMMARY:Pummill Relays
DESCRIPTION:The 50th Pummill Relays will be held April 13\, 2022 in Hammon
 d Student Center 9:30am-2pm. This event is a mathematics competition for 
 high school students. We expect 700 plus students to be competing in the 
 event.
X-ALT-DESC;FMTTYPE=text/html:&lt;html&gt;&lt;head&gt;&lt;title&gt;&lt;/title&gt;&lt;/head&gt;&lt;body&gt;&lt;p&gt;Th
 e 50th Pummill Relays will be held April 13\, 2022 in Hammond Student Cen
 ter 9:30am-2pm. This event is a mathematics competition for high school s
 tudents. We expect 700 plus students to be competing in the event.&lt;/p&gt;&lt;/b
 ody&gt;&lt;/html&gt;
DTSTART;TZID=America/Chicago:20220413T093000
DTEND;TZID=America/Chicago:20220413T140000
SEQUENCE:0
URL:https://math.missouristate.edu/relays.htm
CATEGORIES:Public
END:VEVENT
END:VCALENDAR