BEGIN:VCALENDAR
VERSION:2.0
METHOD:PUBLISH
PRODID:-//Missouri State University/Calendar of Events//EN
CALSCALE:GREGORIAN
X-WR-TIMEZONE:America/Chicago
BEGIN:VTIMEZONE
TZID:America/Chicago
BEGIN:DAYLIGHT
TZOFFSETFROM:-0600
TZOFFSETTO:-0500
DTSTART:20070311T020000
RRULE:FREQ=YEARLY;BYMONTH=3;BYDAY=2SU
TZNAME:CDT
END:DAYLIGHT
BEGIN:STANDARD
TZOFFSETFROM:-0500
TZOFFSETTO:-0600
DTSTART:20071104T020000
RRULE:FREQ=YEARLY;BYMONTH=11;BYDAY=1SU
TZNAME:CST
END:STANDARD
END:VTIMEZONE
BEGIN:VEVENT
UID:6e48d649-44d5-4ece-846c-1cb92ee2be07.220533@calendar.missouristate.edu
CREATED:20220330T185517Z
LAST-MODIFIED:20220330T185517Z
LOCATION:Plaster Student Union\, Robert W. Atrium\, 2nd Floor
SUMMARY:Education Abroad Fair
DESCRIPTION:Join us for the Education Abroad Fair to learn more about stud
 y abroad options available through Missouri State University. Program pro
 vider representatives and faculty directors of short-term programs will b
 e available to answer specific questions about their programs. Eligible s
 tudents can study abroad for one week up to one year\, earn academic cred
 it\, and use their financial aid and special study abroad scholarships. P
 ick up some door prizes while you're at our event!
X-ALT-DESC;FMTTYPE=text/html:&lt;html&gt;&lt;head&gt;&lt;title&gt;&lt;/title&gt;&lt;/head&gt;&lt;body&gt;&lt;p&gt;Jo
 in us for the&amp;nbsp\;&lt;strong&gt;Education Abroad Fair&lt;/strong&gt;&amp;nbsp\;to learn
  more about study abroad options available through Missouri State Univers
 ity. Program provider representatives and faculty directors of short-term
  programs will be available to answer specific questions about their prog
 rams. Eligible students can study abroad for one week up to one year\, ea
 rn academic credit\, and use their financial aid and special study abroad
  scholarships. Pick up some door prizes while you're at our event!&lt;/p&gt;&lt;/b
 ody&gt;&lt;/html&gt;
DTSTART;TZID=America/Chicago:20220929T110000
DTEND;TZID=America/Chicago:20220929T140000
SEQUENCE:0
URL:https://international.missouristate.edu/educationabroad/
CATEGORIES:Public,Current Students,Faculty,Future Students
END:VEVENT
END:VCALENDAR