BEGIN:VCALENDAR
VERSION:2.0
METHOD:PUBLISH
PRODID:-//Missouri State University/Calendar of Events//EN
CALSCALE:GREGORIAN
X-WR-TIMEZONE:America/Chicago
BEGIN:VTIMEZONE
TZID:America/Chicago
BEGIN:DAYLIGHT
TZOFFSETFROM:-0600
TZOFFSETTO:-0500
DTSTART:20070311T020000
RRULE:FREQ=YEARLY;BYMONTH=3;BYDAY=2SU
TZNAME:CDT
END:DAYLIGHT
BEGIN:STANDARD
TZOFFSETFROM:-0500
TZOFFSETTO:-0600
DTSTART:20071104T020000
RRULE:FREQ=YEARLY;BYMONTH=11;BYDAY=1SU
TZNAME:CST
END:STANDARD
END:VTIMEZONE
BEGIN:VEVENT
UID:535fff5f-adfe-4246-b8a5-ab3f7047ba2b.220534@calendar.missouristate.edu
CREATED:20220330T201333Z
LAST-MODIFIED:20220330T201333Z
LOCATION:Plaster Student Union\, Robert W. Theater
SUMMARY:SAC Presents: Behind the Screen with Forrie J. Smith
DESCRIPTION:Come enjoy a screening of Tombstone with the star of Yellowsto
 ne\, Forrie J. Smith with a following Q&amp;A with him. Free Food and a Yello
 wstone Prize giveaway including a T.V.!
X-ALT-DESC;FMTTYPE=text/html:&lt;html&gt;&lt;head&gt;&lt;title&gt;&lt;/title&gt;&lt;/head&gt;&lt;body&gt;&lt;p&gt;Co
 me enjoy a screening of Tombstone with the star of Yellowstone\, Forrie J
 . Smith with a following Q&amp;amp\;A with him. Free Food and a Yellowstone P
 rize giveaway including a T.V.!&lt;/p&gt;&lt;/body&gt;&lt;/html&gt;
DTSTART;TZID=America/Chicago:20220411T000000
DTEND;TZID=America/Chicago:20220411T000000
SEQUENCE:0
URL:115814.jpg
CATEGORIES:Current Students,Faculty,Staff
END:VEVENT
END:VCALENDAR