BEGIN:VCALENDAR
VERSION:2.0
METHOD:PUBLISH
PRODID:-//Missouri State University/Calendar of Events//EN
CALSCALE:GREGORIAN
X-WR-TIMEZONE:America/Chicago
BEGIN:VTIMEZONE
TZID:America/Chicago
BEGIN:DAYLIGHT
TZOFFSETFROM:-0600
TZOFFSETTO:-0500
DTSTART:20070311T020000
RRULE:FREQ=YEARLY;BYMONTH=3;BYDAY=2SU
TZNAME:CDT
END:DAYLIGHT
BEGIN:STANDARD
TZOFFSETFROM:-0500
TZOFFSETTO:-0600
DTSTART:20071104T020000
RRULE:FREQ=YEARLY;BYMONTH=11;BYDAY=1SU
TZNAME:CST
END:STANDARD
END:VTIMEZONE
BEGIN:VEVENT
UID:210473e4-2c5c-4e6e-8fa5-22fd1cc5e774.220535@calendar.missouristate.edu
CREATED:20220330T201857Z
LAST-MODIFIED:20220330T201857Z
LOCATION:Plaster Student Union\, Robert W. Union Club
SUMMARY:SAC Presents: Breaking BEARriers
DESCRIPTION:Join SAC\, Surviving Souls\, and the Victim Center for Sexual 
 Assault Awareness Month! Free fried pickles\, egg rolls\, and meatballs.
X-ALT-DESC;FMTTYPE=text/html:&lt;html&gt;&lt;head&gt;&lt;title&gt;&lt;/title&gt;&lt;/head&gt;&lt;body&gt;&lt;p&gt;Jo
 in SAC\, Surviving Souls\, and the Victim Center for Sexual Assault Aware
 ness Month! Free fried pickles\, egg rolls\, and meatballs.&lt;/p&gt;&lt;/body&gt;&lt;/h
 tml&gt;
DTSTART;TZID=America/Chicago:20220406T163000
DTEND;TZID=America/Chicago:20220406T173000
SEQUENCE:0
URL:115815.jpg
CATEGORIES:Current Students,Faculty,Staff
END:VEVENT
END:VCALENDAR