BEGIN:VCALENDAR
VERSION:2.0
METHOD:PUBLISH
PRODID:-//Missouri State University/Calendar of Events//EN
CALSCALE:GREGORIAN
X-WR-TIMEZONE:America/Chicago
BEGIN:VTIMEZONE
TZID:America/Chicago
BEGIN:DAYLIGHT
TZOFFSETFROM:-0600
TZOFFSETTO:-0500
DTSTART:20070311T020000
RRULE:FREQ=YEARLY;BYMONTH=3;BYDAY=2SU
TZNAME:CDT
END:DAYLIGHT
BEGIN:STANDARD
TZOFFSETFROM:-0500
TZOFFSETTO:-0600
DTSTART:20071104T020000
RRULE:FREQ=YEARLY;BYMONTH=11;BYDAY=1SU
TZNAME:CST
END:STANDARD
END:VTIMEZONE
BEGIN:VEVENT
UID:c61f2c6a-f9ec-42ce-a226-6574c5fe4f96.220590@calendar.missouristate.edu
CREATED:20220331T181329Z
LAST-MODIFIED:20220331T181329Z
LOCATION:
SUMMARY:Crafting Instructional Videos with Camtasia
DESCRIPTION:Camtasia is a screen-recording software that allows you to cre
 ate and edit videos directly from your desktop. You can pre-record instru
 ctional videos that can then be used in an online course\, flipped instru
 ction\, or to enhance learning in a face-to-face class.\n\n\nObjectives:\
 n\n\n\n\n\n\nOverview of Camtasia software\nCreating videos using Camtasi
 a\nEditing previously recorded video with Camtasia\nExporting and sharing
  video for viewing\nBest practices to increase production value\n\nPlease
  register through My Learning Connection.
X-ALT-DESC;FMTTYPE=text/html:&lt;html&gt;&lt;head&gt;&lt;title&gt;&lt;/title&gt;&lt;/head&gt;&lt;body&gt;&lt;p&gt;&lt;s
 pan&gt;Camtasia is a screen-recording software that allows you to create and
  edit videos directly from your desktop. You can pre-record instructional
  videos that can then be used in an online course\, flipped instruction\,
  or to enhance learning in a face-to-face class.&lt;/span&gt;&lt;/p&gt;\n&lt;p&gt;&lt;span&gt;Obj
 ectives:&lt;/span&gt;&lt;/p&gt;\n&lt;p&gt;&lt;/p&gt;\n&lt;ol start="1" type="1"&gt;\n&lt;li&gt;&lt;span&gt;Overview
  of Camtasia software&lt;/span&gt;&lt;/li&gt;\n&lt;li&gt;&lt;span&gt;Creating videos using Camtas
 ia&lt;/span&gt;&lt;/li&gt;\n&lt;li&gt;&lt;span&gt;Editing previously recorded video with Camtasia
 &lt;/span&gt;&lt;/li&gt;\n&lt;li&gt;&lt;span&gt;Exporting and sharing video for viewing&lt;/span&gt;&lt;/l
 i&gt;\n&lt;li&gt;&lt;span&gt;Best practices to increase production value&lt;/span&gt;&lt;/li&gt;\n&lt;/
 ol&gt;\n&lt;p&gt;Please register through My Learning Connection.&lt;/p&gt;&lt;/body&gt;&lt;/html&gt;
DTSTART;TZID=America/Chicago:20220221T153000
DTEND;TZID=America/Chicago:20220221T163000
SEQUENCE:0
URL:http://fctl@missouristate.edu
CATEGORIES:Faculty
END:VEVENT
END:VCALENDAR