BEGIN:VCALENDAR
VERSION:2.0
METHOD:PUBLISH
PRODID:-//Missouri State University/Calendar of Events//EN
CALSCALE:GREGORIAN
X-WR-TIMEZONE:America/Chicago
BEGIN:VTIMEZONE
TZID:America/Chicago
BEGIN:DAYLIGHT
TZOFFSETFROM:-0600
TZOFFSETTO:-0500
DTSTART:20070311T020000
RRULE:FREQ=YEARLY;BYMONTH=3;BYDAY=2SU
TZNAME:CDT
END:DAYLIGHT
BEGIN:STANDARD
TZOFFSETFROM:-0500
TZOFFSETTO:-0600
DTSTART:20071104T020000
RRULE:FREQ=YEARLY;BYMONTH=11;BYDAY=1SU
TZNAME:CST
END:STANDARD
END:VTIMEZONE
BEGIN:VEVENT
UID:86e352da-90e3-4803-aec9-9c842b78552e.220592@calendar.missouristate.edu
CREATED:20220407T201110Z
LAST-MODIFIED:20220407T201110Z
LOCATION:Ellis Hall / C. Minor Recital Hall
SUMMARY:Patricia Pierce Guest Artist Recital
DESCRIPTION:The MSU Music Department invites you to join us for a performa
 nce featuring Dr. Jason Kwak\, pianist. In 2021\, Kwak was inducted into 
 the Steinway and Sons Teacher Hall of Fame. For more information\, please
  communicate with the event contact.\n\n\n*Please note\, masks are recomm
 ended in Ellis Hall.
X-ALT-DESC;FMTTYPE=text/html:&lt;html&gt;&lt;head&gt;&lt;title&gt;&lt;/title&gt;&lt;/head&gt;&lt;body&gt;&lt;p&gt;Th
 e MSU Music Department invites you to join us for a performance featuring
  Dr. Jason Kwak\, pianist. In 2021\, Kwak was inducted into the Steinway 
 and Sons Teacher Hall of Fame. For more information\, please communicate 
 with the event contact.&lt;/p&gt;\n&lt;p&gt;*Please note\, masks are recommended in E
 llis Hall.&lt;/p&gt;&lt;/body&gt;&lt;/html&gt;
DTSTART;TZID=America/Chicago:20220405T193000
DTEND;TZID=America/Chicago:20220405T210000
SEQUENCE:0
URL:
CATEGORIES:Public,Alumni,Current Students,Faculty,Future Students,Staff
END:VEVENT
END:VCALENDAR