BEGIN:VCALENDAR
VERSION:2.0
METHOD:PUBLISH
PRODID:-//Missouri State University/Calendar of Events//EN
CALSCALE:GREGORIAN
X-WR-TIMEZONE:America/Chicago
BEGIN:VTIMEZONE
TZID:America/Chicago
BEGIN:DAYLIGHT
TZOFFSETFROM:-0600
TZOFFSETTO:-0500
DTSTART:20070311T020000
RRULE:FREQ=YEARLY;BYMONTH=3;BYDAY=2SU
TZNAME:CDT
END:DAYLIGHT
BEGIN:STANDARD
TZOFFSETFROM:-0500
TZOFFSETTO:-0600
DTSTART:20071104T020000
RRULE:FREQ=YEARLY;BYMONTH=11;BYDAY=1SU
TZNAME:CST
END:STANDARD
END:VTIMEZONE
BEGIN:VEVENT
UID:bccd4a94-f762-4ce9-b17d-f78803be626f.220595@calendar.missouristate.edu
CREATED:20220407T204553Z
LAST-MODIFIED:20220407T204553Z
LOCATION:Allison Stadium South
SUMMARY:Bears Relays
DESCRIPTION:This is the Black Student Athlete Alliance's first annual scho
 olwide track meet! Part of our proceeds will be donated to Help Give Hope
 .\n\n\nThe Bears Relay charity event is for all staff and students to par
 ticipate. There will be individual and relay races available for every Mi
 ssouri State affiliated individual to run in. The individual races availa
 ble to participate in are the 60M\, 100M and 200M dash\, along with the o
 ne-mile run and the 3K. The relays hosted will be the 4x100M and 4x400M. 
 \n\n\nCreate a relay team of four people to race against other students a
 nd faculty members\, or stand alone and race on your own!
X-ALT-DESC;FMTTYPE=text/html:&lt;html&gt;&lt;head&gt;&lt;title&gt;&lt;/title&gt;&lt;/head&gt;&lt;body&gt;&lt;p&gt;Th
 is is the Black Student Athlete Alliance's first annual schoolwide track 
 meet! Part of our proceeds will be donated to Help Give Hope.&lt;/p&gt;\n&lt;p&gt;The
  Bears Relay charity event is for all staff and students to participate. 
 There will be individual and relay races available for every Missouri Sta
 te affiliated individual to run in. The individual races available to par
 ticipate in are the 60M\, 100M and 200M dash\, along with the one-mile ru
 n and the 3K. The relays hosted will be the 4x100M and 4x400M.&amp;nbsp\;&lt;/p&gt;
 \n&lt;p&gt;Create a relay team of four people to race against other students an
 d faculty members\, or stand alone and race on your own!&lt;/p&gt;&lt;/body&gt;&lt;/html&gt;
DTSTART;TZID=America/Chicago:20220507T150000
DTEND;TZID=America/Chicago:20220507T190000
SEQUENCE:0
URL:https://Mostatebearsrelays.rsvpify.com
CATEGORIES:Public,Alumni,Current Students,Faculty,Staff
END:VEVENT
END:VCALENDAR