BEGIN:VCALENDAR
VERSION:2.0
METHOD:PUBLISH
PRODID:-//Missouri State University/Calendar of Events//EN
CALSCALE:GREGORIAN
X-WR-TIMEZONE:America/Chicago
BEGIN:VTIMEZONE
TZID:America/Chicago
BEGIN:DAYLIGHT
TZOFFSETFROM:-0600
TZOFFSETTO:-0500
DTSTART:20070311T020000
RRULE:FREQ=YEARLY;BYMONTH=3;BYDAY=2SU
TZNAME:CDT
END:DAYLIGHT
BEGIN:STANDARD
TZOFFSETFROM:-0500
TZOFFSETTO:-0600
DTSTART:20071104T020000
RRULE:FREQ=YEARLY;BYMONTH=11;BYDAY=1SU
TZNAME:CST
END:STANDARD
END:VTIMEZONE
BEGIN:VEVENT
UID:0e7257fa-5d61-45f8-9cbb-fdad4e0d70ec.220672@calendar.missouristate.edu
CREATED:20220405T212502Z
LAST-MODIFIED:20220405T212502Z
LOCATION:Karls Hall 101
SUMMARY:The War in Ukraine: Causes\, Consequences\, and Ways Out.
DESCRIPTION:A discussion about the ongoing war in Ukraine featuring three 
 political scientists: Dani Belo of Webster University\, Valery Dzutsati o
 f the University of Kansas\, and Ali Fisonoglu of St. Louis University.
X-ALT-DESC;FMTTYPE=text/html:&lt;html&gt;&lt;head&gt;&lt;title&gt;&lt;/title&gt;&lt;/head&gt;&lt;body&gt;&lt;p&gt;&lt;s
 pan&gt;A discussion about the ongoing war in Ukraine featuring three politic
 al scientists: Dani Belo of Webster University\, Valery Dzutsati of the U
 niversity of Kansas\, and Ali Fisonoglu of St. Louis University.&lt;/span&gt;&lt;/
 p&gt;&lt;/body&gt;&lt;/html&gt;
DTSTART;TZID=America/Chicago:20220422T173000
DTEND;TZID=America/Chicago:20220422T190000
SEQUENCE:0
URL:https://calendar.missouristate.edu/viewevent.aspx?eventid=115830&amp;occur
 renceid=220672
CATEGORIES:Public
END:VEVENT
END:VCALENDAR