BEGIN:VCALENDAR
VERSION:2.0
METHOD:PUBLISH
PRODID:-//Missouri State University/Calendar of Events//EN
CALSCALE:GREGORIAN
X-WR-TIMEZONE:America/Chicago
BEGIN:VTIMEZONE
TZID:America/Chicago
BEGIN:DAYLIGHT
TZOFFSETFROM:-0600
TZOFFSETTO:-0500
DTSTART:20070311T020000
RRULE:FREQ=YEARLY;BYMONTH=3;BYDAY=2SU
TZNAME:CDT
END:DAYLIGHT
BEGIN:STANDARD
TZOFFSETFROM:-0500
TZOFFSETTO:-0600
DTSTART:20071104T020000
RRULE:FREQ=YEARLY;BYMONTH=11;BYDAY=1SU
TZNAME:CST
END:STANDARD
END:VTIMEZONE
BEGIN:VEVENT
UID:9dac90f8-ddc6-46a6-9a03-f7a15b8e68a6.220673@calendar.missouristate.edu
CREATED:20220406T192750Z
LAST-MODIFIED:20220406T192750Z
LOCATION:Ellis Hall / C. Minor Recital Hall
SUMMARY:Faculty and Guest Artist Recital
DESCRIPTION:The MSU Music Department invites you to join us for a performa
 nce featuring Dr. David Hays\, violin and Dr. Robert Carney\, piano\, pla
 ying American and British Music for the Violin and Piano. For more inform
 ation\, please communicate with the event contact.\n\n\n*Please note\, ma
 sks are recommended in Ellis Hall.
X-ALT-DESC;FMTTYPE=text/html:&lt;html&gt;&lt;head&gt;&lt;title&gt;&lt;/title&gt;&lt;/head&gt;&lt;body&gt;&lt;p&gt;Th
 e MSU Music Department invites you to join us for a performance featuring
  Dr. David Hays\, violin and Dr. Robert Carney\, piano\, playing American
  and British Music for the Violin and Piano. For more information\, pleas
 e communicate with the event contact.&lt;/p&gt;\n&lt;p&gt;*Please note\, masks are re
 commended in Ellis Hall.&lt;/p&gt;\n&lt;p&gt;&lt;/p&gt;&lt;/body&gt;&lt;/html&gt;
DTSTART;TZID=America/Chicago:20220414T193000
DTEND;TZID=America/Chicago:20220414T203000
SEQUENCE:0
URL:
CATEGORIES:Public,Alumni,Current Students,Faculty,Future Students,Staff
END:VEVENT
END:VCALENDAR