BEGIN:VCALENDAR
VERSION:2.0
METHOD:PUBLISH
PRODID:-//Missouri State University/Calendar of Events//EN
CALSCALE:GREGORIAN
X-WR-TIMEZONE:America/Chicago
BEGIN:VTIMEZONE
TZID:America/Chicago
BEGIN:DAYLIGHT
TZOFFSETFROM:-0600
TZOFFSETTO:-0500
DTSTART:20070311T020000
RRULE:FREQ=YEARLY;BYMONTH=3;BYDAY=2SU
TZNAME:CDT
END:DAYLIGHT
BEGIN:STANDARD
TZOFFSETFROM:-0500
TZOFFSETTO:-0600
DTSTART:20071104T020000
RRULE:FREQ=YEARLY;BYMONTH=11;BYDAY=1SU
TZNAME:CST
END:STANDARD
END:VTIMEZONE
BEGIN:VEVENT
UID:65de1aab-3416-41c6-8ef0-4a1fe7a6dc4c.220676@calendar.missouristate.edu
CREATED:20220406T174946Z
LAST-MODIFIED:20220406T174946Z
LOCATION:Plaster Student Union\, Robert W. Theater
SUMMARY:SAC Presents Blockbuster Film: Spider-Man: No Way Home
DESCRIPTION:Come enjoy a screening of the latest Marvel film with free foo
 d and a prize drawing!
X-ALT-DESC;FMTTYPE=text/html:&lt;html&gt;&lt;head&gt;&lt;title&gt;&lt;/title&gt;&lt;/head&gt;&lt;body&gt;&lt;p&gt;Co
 me enjoy a screening of the latest Marvel film with free food and a prize
  drawing!&lt;/p&gt;&lt;/body&gt;&lt;/html&gt;
DTSTART;TZID=America/Chicago:20220427T180000
DTEND;TZID=America/Chicago:20220427T210000
SEQUENCE:0
URL:115834.jpg
CATEGORIES:Current Students,Faculty,Staff
END:VEVENT
END:VCALENDAR