BEGIN:VCALENDAR
VERSION:2.0
METHOD:PUBLISH
PRODID:-//Missouri State University/Calendar of Events//EN
CALSCALE:GREGORIAN
X-WR-TIMEZONE:America/Chicago
BEGIN:VTIMEZONE
TZID:America/Chicago
BEGIN:DAYLIGHT
TZOFFSETFROM:-0600
TZOFFSETTO:-0500
DTSTART:20070311T020000
RRULE:FREQ=YEARLY;BYMONTH=3;BYDAY=2SU
TZNAME:CDT
END:DAYLIGHT
BEGIN:STANDARD
TZOFFSETFROM:-0500
TZOFFSETTO:-0600
DTSTART:20071104T020000
RRULE:FREQ=YEARLY;BYMONTH=11;BYDAY=1SU
TZNAME:CST
END:STANDARD
END:VTIMEZONE
BEGIN:VEVENT
UID:f50b3dd8-fce5-4f81-9567-cfa6444fac8f.220681@calendar.missouristate.edu
CREATED:20220407T143548Z
LAST-MODIFIED:20220407T143548Z
LOCATION:Plaster Student Union\, Robert W. Ballroom West
SUMMARY:Retirement Reception for Dr. Dave Muegge\, Director of Magers Fami
 ly Health and Wellness Center 
DESCRIPTION:Dr. Dave Muegge\, director of Magers Family Health and Wellnes
 s Center\, will retire after almost 30 years of service at Missouri State
 . \n\n\nPlease join us for a celebration of Muegge's service to MSU.
X-ALT-DESC;FMTTYPE=text/html:&lt;html&gt;&lt;head&gt;&lt;title&gt;&lt;/title&gt;&lt;/head&gt;&lt;body&gt;&lt;p&gt;&lt;s
 trong&gt;&lt;/strong&gt;Dr. Dave Muegge\, director of Magers Family Health and Wel
 lness Center\, will retire after almost 30 years of service at Missouri S
 tate.&amp;nbsp\;&lt;/p&gt;\n&lt;p&gt;Please join us for a celebration of Muegge's service
  to MSU.&lt;/p&gt;&lt;/body&gt;&lt;/html&gt;
DTSTART;TZID=America/Chicago:20220518T153000
DTEND;TZID=America/Chicago:20220518T170000
SEQUENCE:0
URL:115837.jpg
CATEGORIES:Current Students,Faculty,Staff
END:VEVENT
END:VCALENDAR