BEGIN:VCALENDAR
VERSION:2.0
METHOD:PUBLISH
PRODID:-//Missouri State University/Calendar of Events//EN
CALSCALE:GREGORIAN
X-WR-TIMEZONE:America/Chicago
BEGIN:VTIMEZONE
TZID:America/Chicago
BEGIN:DAYLIGHT
TZOFFSETFROM:-0600
TZOFFSETTO:-0500
DTSTART:20070311T020000
RRULE:FREQ=YEARLY;BYMONTH=3;BYDAY=2SU
TZNAME:CDT
END:DAYLIGHT
BEGIN:STANDARD
TZOFFSETFROM:-0500
TZOFFSETTO:-0600
DTSTART:20071104T020000
RRULE:FREQ=YEARLY;BYMONTH=11;BYDAY=1SU
TZNAME:CST
END:STANDARD
END:VTIMEZONE
BEGIN:VEVENT
UID:fa971988-ccdf-4bd2-8078-13a9762b7a27.220682@calendar.missouristate.edu
CREATED:20220408T183350Z
LAST-MODIFIED:20220408T183350Z
LOCATION:Brick City 1 312
SUMMARY:Mike Salisbury Artist Talk
DESCRIPTION:MSU Art+Design and Sculpture Walk Springfield (SWS) are proud 
 to host SWS’s first international artist\, Mike Salisbury from Ontario\, 
 Canada.\n\n\nSalisbury will discuss his public art practice and give insi
 ght into the process of creating a site-specific sculpture in Jubilee Par
 k North that juxtaposes a living tree within a full-size metal and glass 
 street corner payphone.
X-ALT-DESC;FMTTYPE=text/html:&lt;html&gt;&lt;head&gt;&lt;title&gt;&lt;/title&gt;&lt;/head&gt;&lt;body&gt;&lt;p&gt;MS
 U Art+Design and Sculpture Walk Springfield (SWS) are proud to host SWS’s
  first international artist\,&amp;nbsp\;&lt;a href="http://mikesalisbury.ca/abou
 t-mike-salisbury/" target="_blank"&gt;Mike Salisbury&lt;/a&gt; from Ontario\, Cana
 da.&lt;/p&gt;\n&lt;p&gt;Salisbury will discuss his public art practice and give insig
 ht into the process of creating a site-specific sculpture in Jubilee Park
  North that juxtaposes a living tree within a full-size metal and glass s
 treet corner payphone.&lt;/p&gt;&lt;/body&gt;&lt;/html&gt;
DTSTART;TZID=America/Chicago:20220425T170000
DTEND;TZID=America/Chicago:20220425T180000
SEQUENCE:0
URL:https://tinyurl.com/MikeSalisbury
CATEGORIES:Public,Alumni,Current Students,Faculty,Future Students,Staff
END:VEVENT
END:VCALENDAR