BEGIN:VCALENDAR
VERSION:2.0
METHOD:PUBLISH
PRODID:-//Missouri State University/Calendar of Events//EN
CALSCALE:GREGORIAN
X-WR-TIMEZONE:America/Chicago
BEGIN:VTIMEZONE
TZID:America/Chicago
BEGIN:DAYLIGHT
TZOFFSETFROM:-0600
TZOFFSETTO:-0500
DTSTART:20070311T020000
RRULE:FREQ=YEARLY;BYMONTH=3;BYDAY=2SU
TZNAME:CDT
END:DAYLIGHT
BEGIN:STANDARD
TZOFFSETFROM:-0500
TZOFFSETTO:-0600
DTSTART:20071104T020000
RRULE:FREQ=YEARLY;BYMONTH=11;BYDAY=1SU
TZNAME:CST
END:STANDARD
END:VTIMEZONE
BEGIN:VEVENT
UID:09b309f7-0033-46b2-87d8-3132de5b709d.220687@calendar.missouristate.edu
CREATED:20220420T212038Z
LAST-MODIFIED:20220420T212038Z
LOCATION:Plaster Student Union\, Robert W. 400
SUMMARY:Campus-wide Memorial Service
DESCRIPTION:On behalf of Missouri State University\, the Memorial Service 
 Committee would like to invite you to remember and honor MSU faculty\, st
 aff and students who have passed away during the past year.
X-ALT-DESC;FMTTYPE=text/html:&lt;html&gt;&lt;head&gt;&lt;title&gt;&lt;/title&gt;&lt;/head&gt;&lt;body&gt;&lt;p&gt;On
  behalf of Missouri State University\, the Memorial Service Committee wou
 ld like to invite you to remember and honor MSU faculty\, staff and stude
 nts who have passed away during the past year.&lt;/p&gt;&lt;/body&gt;&lt;/html&gt;
DTSTART;TZID=America/Chicago:20220428T160000
DTEND;TZID=America/Chicago:20220428T170000
SEQUENCE:0
URL:https://calendar.missouristate.edu/viewevent.aspx?eventid=115840&amp;occur
 renceid=220687
CATEGORIES:Public,Alumni,Current Students,Faculty,Staff
END:VEVENT
END:VCALENDAR