BEGIN:VCALENDAR
VERSION:2.0
METHOD:PUBLISH
PRODID:-//Missouri State University/Calendar of Events//EN
CALSCALE:GREGORIAN
X-WR-TIMEZONE:America/Chicago
BEGIN:VTIMEZONE
TZID:America/Chicago
BEGIN:DAYLIGHT
TZOFFSETFROM:-0600
TZOFFSETTO:-0500
DTSTART:20070311T020000
RRULE:FREQ=YEARLY;BYMONTH=3;BYDAY=2SU
TZNAME:CDT
END:DAYLIGHT
BEGIN:STANDARD
TZOFFSETFROM:-0500
TZOFFSETTO:-0600
DTSTART:20071104T020000
RRULE:FREQ=YEARLY;BYMONTH=11;BYDAY=1SU
TZNAME:CST
END:STANDARD
END:VTIMEZONE
BEGIN:VEVENT
UID:4d8b4d03-34f3-4ad8-bf4c-8adb427b7c4b.220689@calendar.missouristate.edu
CREATED:20220408T162543Z
LAST-MODIFIED:20220408T162543Z
LOCATION:
SUMMARY:2022 Collaborative Diversity Conference
DESCRIPTION:As we all know\, the past two years have been challenging in a
 ddressing the “pandemic within a pandemic.” This year\, we will identify 
 and examine some of these ongoing challenges while working to build cross
 -sector relationships that connect potential opportunities to work on res
 olutions.\n\n\nThe Collaborative Diversity Conference (CDC) has become a 
 major diversity education and leadership experience in the region\, as we
 ll as the state of Missouri. This year’s CDC will be held virtually April
  20-21\, 2022\, and because of our generous sponsors\, we are able to off
 er it at no cost again this year.
X-ALT-DESC;FMTTYPE=text/html:&lt;html&gt;&lt;head&gt;&lt;title&gt;&lt;/title&gt;&lt;/head&gt;&lt;body&gt;&lt;p&gt;As
  we all know\, the past two years have been challenging in addressing the
  “pandemic within a pandemic.” This year\, we will identify and examine s
 ome of these ongoing challenges while working to build cross-sector relat
 ionships that connect potential opportunities to work on resolutions.&lt;/p&gt;
 \n&lt;p&gt;The Collaborative Diversity Conference (CDC) has become a major dive
 rsity education and leadership experience in the region\, as well as the 
 state of Missouri. This year’s CDC will be held virtually April 20-21\, 2
 022\, and because of our generous sponsors\, we are able to offer it at n
 o cost again this year.&lt;/p&gt;\n&lt;p&gt;&lt;/p&gt;&lt;/body&gt;&lt;/html&gt;
DTSTART;TZID=America/Chicago:20220420T083000
DTEND;TZID=America/Chicago:20220420T160300
SEQUENCE:0
URL:https://diversity.missouristate.edu/Conference/
CATEGORIES:Public,Alumni,Current Students,Faculty,Staff
END:VEVENT
END:VCALENDAR