BEGIN:VCALENDAR
VERSION:2.0
METHOD:PUBLISH
PRODID:-//Missouri State University/Calendar of Events//EN
CALSCALE:GREGORIAN
X-WR-TIMEZONE:America/Chicago
BEGIN:VTIMEZONE
TZID:America/Chicago
BEGIN:DAYLIGHT
TZOFFSETFROM:-0600
TZOFFSETTO:-0500
DTSTART:20070311T020000
RRULE:FREQ=YEARLY;BYMONTH=3;BYDAY=2SU
TZNAME:CDT
END:DAYLIGHT
BEGIN:STANDARD
TZOFFSETFROM:-0500
TZOFFSETTO:-0600
DTSTART:20071104T020000
RRULE:FREQ=YEARLY;BYMONTH=11;BYDAY=1SU
TZNAME:CST
END:STANDARD
END:VTIMEZONE
BEGIN:VEVENT
UID:eca22829-b4ce-49cf-a932-a5485cd84efe.220714@calendar.missouristate.edu
CREATED:20220427T135227Z
LAST-MODIFIED:20220427T135227Z
LOCATION:Plaster Student Union\, Robert W. Ballroom West
SUMMARY:Retirement Reception for Provost Frank Einhellig
DESCRIPTION:The campus community is invited to celebrate with Dr. Einhelli
 g as he retires from Missouri State University after 30 years of service.
 \n\n\nRemarks at 4 p.m. Food and drink will be served.
X-ALT-DESC;FMTTYPE=text/html:&lt;html&gt;&lt;head&gt;&lt;title&gt;&lt;/title&gt;&lt;/head&gt;&lt;body&gt;&lt;p&gt;Th
 e campus community is invited to celebrate with Dr. Einhellig as he retir
 es from Missouri State University after 30 years of service.&lt;/p&gt;\n&lt;p&gt;Rema
 rks at 4 p.m. Food and drink will be served.&lt;/p&gt;&lt;/body&gt;&lt;/html&gt;
DTSTART;TZID=America/Chicago:20220502T153000
DTEND;TZID=America/Chicago:20220502T170000
SEQUENCE:0
URL:115853.jpg
CATEGORIES:Alumni,Faculty,Staff
END:VEVENT
END:VCALENDAR