BEGIN:VCALENDAR
VERSION:2.0
METHOD:PUBLISH
PRODID:-//Missouri State University/Calendar of Events//EN
CALSCALE:GREGORIAN
X-WR-TIMEZONE:America/Chicago
BEGIN:VTIMEZONE
TZID:America/Chicago
BEGIN:DAYLIGHT
TZOFFSETFROM:-0600
TZOFFSETTO:-0500
DTSTART:20070311T020000
RRULE:FREQ=YEARLY;BYMONTH=3;BYDAY=2SU
TZNAME:CDT
END:DAYLIGHT
BEGIN:STANDARD
TZOFFSETFROM:-0500
TZOFFSETTO:-0600
DTSTART:20071104T020000
RRULE:FREQ=YEARLY;BYMONTH=11;BYDAY=1SU
TZNAME:CST
END:STANDARD
END:VTIMEZONE
BEGIN:VEVENT
UID:babbe0b6-5bf8-4c44-8eb5-a49b65936264.220716@calendar.missouristate.edu
CREATED:20220412T134537Z
LAST-MODIFIED:20220412T134537Z
LOCATION:Plaster Student Union\, Robert W. Theater
SUMMARY:SAC Presents: AAPI Month Speaker: Helen Hong
DESCRIPTION:Come celebrate Asian American and Pacific Islander Hertiage Mo
 nth with Helen Hong! Free fondue station and prize drawing!
X-ALT-DESC;FMTTYPE=text/html:&lt;html&gt;&lt;head&gt;&lt;title&gt;&lt;/title&gt;&lt;/head&gt;&lt;body&gt;&lt;p&gt;Co
 me celebrate Asian American and Pacific Islander Hertiage Month with Hele
 n Hong! Free fondue station and prize drawing!&lt;/p&gt;&lt;/body&gt;&lt;/html&gt;
DTSTART;TZID=America/Chicago:20220419T190000
DTEND;TZID=America/Chicago:20220419T200000
SEQUENCE:0
URL:115854.jpg
CATEGORIES:Current Students,Faculty,Staff
END:VEVENT
END:VCALENDAR